BEGIN:VCALENDAR
VERSION:2.0
PRODID:-//wp-events-plugin.com//7.2.3.1//EN
TZID:America/New_York
X-WR-TIMEZONE:America/New_York
BEGIN:VEVENT
UID:379@breatheatlanta.us
DTSTART;TZID=America/New_York:20240825T130000
DTEND;TZID=America/New_York:20240825T170000
DTSTAMP:20240730T175609Z
URL:https://breatheatlanta.us/events/inner-alchemy-workshop/
SUMMARY:Inner Alchemy Workshop
DESCRIPTION:Step into the Inner Alchemy Workshop\, a transformative event d
 esigned to unlock the magic within you. Scheduled for Sunday\, August 25th
 \, this immersive experience will guide you on a journey of self-discovery
 \, mindfulness\, and personal transformation. Perfect for anyone seeking t
 o deepen their understanding of themselves and cultivate lasting inner pea
 ce\, this workshop offers a sanctuary for exploring and evolving your inne
 r world.\n\nEvent Highlights:\n\n 	Guided Meditation: Experience a journey
  within\, designed to center your mind and spirit.\n 	Mini Reiki Healing: 
 Enjoy a brief but powerful Reiki session to cleanse and rejuvenate your en
 ergy.\n 	Grounding &amp\; Protection Tools: Learn techniques to ground you
 rself and protect your energy in daily life.\n 	Manifestation Practice: De
 velop actionable steps to bring your dreams into reality and align your go
 als with your true desires.\n 	Releasing the Past Technique: Engage in exe
 rcises aimed at letting go of past burdens that no longer serve you\, maki
 ng space for growth and renewal.\n 	Mini Oracle Card Reading: Receive intu
 itive insights and guidance to help illuminate your path forward.\n\nWorks
 hop Goals:\n\n 	Deepen Self-Understanding: Engage in practices that encour
 age self-reflection and awareness.\n 	Cultivate Inner Peace: Explore mindf
 ulness techniques to foster tranquility and balance.\n 	Set a Vision for t
 he Future: Create a clear plan to manifest the life you envision for yours
 elf.\n\nJoin us for this unique opportunity to give your soul the vacation
  it deserves and embrace the expansive possibilities of your inner world. 
 This workshop is dedicated to expanding your horizons and nurturing your p
 ersonal growth—come ready to explore\, transform\, and manifest your dre
 ams.\n\nGET TICKETS\n
ATTACH;FMTTYPE=image/jpeg:https://breatheatlanta.us/wp-content/uploads/202
 4/07/Inner-Alchemy-Workshop.jpg
CATEGORIES:Mindfulness Events,Things To Do,Yoga Events
LOCATION:Atlanta\, Atlanta\, GA\, USA Atlanta\, GA United States\, Atlanta\
 , GA\, 30310\, GA\, United States
X-APPLE-STRUCTURED-LOCATION;VALUE=URI;X-ADDRESS=Atlanta\, GA\, USA Atlanta\
 , GA United States\, Atlanta\, GA\, 30310\, GA\, United States;X-APPLE-RAD
 IUS=100;X-TITLE=Atlanta:geo:0,0
END:VEVENT
BEGIN:VTIMEZONE
TZID:America/New_York
X-LIC-LOCATION:America/New_York
BEGIN:DAYLIGHT
DTSTART:20240310T030000
TZOFFSETFROM:-0500
TZOFFSETTO:-0400
TZNAME:EDT
END:DAYLIGHT
END:VTIMEZONE
END:VCALENDAR