BEGIN:VCALENDAR
VERSION:2.0
PRODID:-//wp-events-plugin.com//7.2.3.1//EN
TZID:America/New_York
X-WR-TIMEZONE:America/New_York
BEGIN:VEVENT
UID:236@breatheatlanta.us
DTSTART;TZID=America/New_York:20240608T110000
DTEND;TZID=America/New_York:20240608T190000
DTSTAMP:20240407T220205Z
URL:https://breatheatlanta.us/events/inner-goddess-wellness-retreat%ef%b8%
 8f%ef%b8%8f%ef%b8%8f-2/
SUMMARY:Inner Goddess Wellness Retreat️️️
DESCRIPTION:\nReclaim Your Inner Radiance: The Inner Goddess Wellness Retre
 at Awaits\nYearning for a transformative escape dedicated to self-renewal?
  The Inner Goddess Wellness Retreat offers a haven for relaxation\, rejuve
 nation\, and reconnecting with your inner light.\nEmbrace Inner Peace:\nSt
 ep away from daily pressures and immerse yourself in a serene environment 
 designed to nurture your mind\, body\, and spirit. Through guided practice
 s\, workshops\, and mindful activities\, embark on a journey towards inner
  peace and self-discovery.\nReignite Your Self-Care:\nThis retreat priorit
 izes self-care\, offering a dedicated space to:\n\n\n 	Nurture Your Body: 
 Enjoy nourishing meals\, restorative yoga sessions\, and relaxing spa trea
 tments designed to melt away stress and tension.\n 	Quiet Your Mind: Engag
 e in meditation practices\, guided imagery\, and other techniques to culti
 vate inner peace and stillness.\n 	Awaken Your Creativity: Explore creativ
 e expression through journaling workshops\, art therapy\, or dance session
 s\, allowing your inner voice to be heard.\n\nRestore Your Well-being:\nTh
 is retreat goes beyond temporary relaxation:\n\n\n 	Empowering Practices: 
 Discover practical tools and techniques for integrating self-care into you
 r daily life beyond the retreat.\n 	Supportive Community: Connect with lik
 e-minded women on a similar path to self-discovery\, fostering a sense of 
 belonging and empowerment.\n 	Lasting Transformation: Leave feeling rejuve
 nated\, inspired\, and equipped to cultivate lasting well-being in the lon
 g term.\n\nUnleash Your Inner Goddess:\nThis retreat is an invitation to:\
 n\n\n 	Reclaim Your Power: Rediscover your inner strength and confidence\,
  allowing your inner goddess to shine.\n 	Celebrate Your Uniqueness: Honor
  your unique journey and embrace your authentic self in a supportive envir
 onment.\n 	Embrace New Possibilities: Return from the retreat feeling empo
 wered to create a life filled with joy\, balance\, and well-being.\n\nDon'
 t Miss This Opportunity:\nThe Inner Goddess Wellness Retreat offers a uniq
 ue opportunity to:\n\n\n 	Prioritize Self-Care: Dedicate time to nurturing
  your well-being in a serene and supportive setting.\n 	Explore New Practi
 ces: Discover transformative modalities to enhance your mental and emotion
 al well-being.\n 	Invest in Yourself: This retreat is an investment in you
 r overall health and happiness\, offering lasting benefits beyond the week
 end.\n\nJoin us! The Inner Goddess Retreat awaits to guide you on a journe
 y of self-discovery and lasting well-being. Embrace the power within and e
 merge with renewed radiance!\n\n\n\nBUY TICKETS\n
ATTACH;FMTTYPE=image/jpeg:https://breatheatlanta.us/wp-content/uploads/202
 4/04/https___cdn.evbuc_.com_images_679951679_569978821935_1_original.jpeg
CATEGORIES:Wellness Events
LOCATION:Atlanta\, Atlanta\, GA\, USA Atlanta\, GA United States\, Atlanta\
 , GA\, 30310\, GA\, United States
X-APPLE-STRUCTURED-LOCATION;VALUE=URI;X-ADDRESS=Atlanta\, GA\, USA Atlanta\
 , GA United States\, Atlanta\, GA\, 30310\, GA\, United States;X-APPLE-RAD
 IUS=100;X-TITLE=Atlanta:geo:0,0
END:VEVENT
BEGIN:VTIMEZONE
TZID:America/New_York
X-LIC-LOCATION:America/New_York
BEGIN:DAYLIGHT
DTSTART:20240310T030000
TZOFFSETFROM:-0500
TZOFFSETTO:-0400
TZNAME:EDT
END:DAYLIGHT
END:VTIMEZONE
END:VCALENDAR