BEGIN:VCALENDAR
VERSION:2.0
PRODID:-//wp-events-plugin.com//7.2.3.1//EN
TZID:America/New_York
X-WR-TIMEZONE:America/New_York
BEGIN:VEVENT
UID:440@breatheatlanta.us
DTSTART;TZID=America/New_York:20240915T150000
DTEND;TZID=America/New_York:20240915T210000
DTSTAMP:20240903T190256Z
URL:https://breatheatlanta.us/events/inner-shadow-healing-women-circle/
SUMMARY:Inner Shadow Healing Women Circle
DESCRIPTION:The "Inner Shadow Healing Circle" is a transformative event ded
 icated to exploring and healing the shadow self\, with an emphasis on embr
 acing every facet of one’s being. This gathering creates a safe and nurt
 uring environment for women to confront their inner shadows\, revealing hi
 dden emotions and turning them into sources of strength and wisdom.\n\nSet
  against a backdrop of rich\, darker tones that enhance the reflective amb
 iance\, the circle invites participants to engage in practices designed fo
 r deep emotional healing and self-acceptance. Attendees will partake in a 
 range of activities aimed at illuminating the shadow self and fostering pe
 rsonal growth.\n\nEvent Highlights:\n\n 	Shadow Exploration: Delve into gu
 ided sessions focused on understanding and integrating the shadow self. Th
 ese sessions will help participants uncover concealed emotions and pattern
 s that may be impeding their progress.\n 	Meditation and Reflection: Engag
 e in meditative practices and reflective exercises that promote profound e
 motional healing and heightened self-awareness. These moments of introspec
 tion are essential for personal growth.\n 	Expressive Arts: Participate in
  creative activities that enable you to articulate and transform shadow as
 pects. Through artistic expression\, you will visually represent and proce
 ss your inner journey.\n 	Movement Practices: Experience the therapeutic b
 enefits of movement through dance and other body-based practices. These ac
 tivities are designed to release and harmonize shadow elements within your
  being.\n 	Women’s Circle: Connect with like-minded women in a supportiv
 e communal setting. Share experiences\, insights\, and encouragement as yo
 u collectively navigate the path of shadow healing.\n 	Nourishing Cuisine:
  Enjoy wholesome\, nourishing food that complements the event’s focus on
  overall well-being and self-care.\n\nThe "Inner Shadow Healing Circle" of
 fers a profound opportunity for women seeking to embark on a journey of de
 ep emotional healing\, self-discovery\, and community connection. Embrace 
 the full spectrum of your inner self\, transform shadow into light\, and d
 iscover strength in your true essence.\n\nGET TICKETS\n
ATTACH;FMTTYPE=image/jpeg:https://breatheatlanta.us/wp-content/uploads/202
 4/09/Inner-Shadow-Healing-Women-Circle.jpg
CATEGORIES:Mindfulness Events,Things To Do,Wellness Events
LOCATION:Aum Studio for Wellness\, 11550 Webb Bridge Way #Suite B2 \, \, Al
 pharetta\, United States\, 30005 \, GA \, United States
X-APPLE-STRUCTURED-LOCATION;VALUE=URI;X-ADDRESS=11550 Webb Bridge Way #Suit
 e B2 \, \, Alpharetta\, United States\, 30005 \, GA \, United States;X-APP
 LE-RADIUS=100;X-TITLE=Aum Studio for Wellness:geo:0,0
END:VEVENT
BEGIN:VTIMEZONE
TZID:America/New_York
X-LIC-LOCATION:America/New_York
BEGIN:DAYLIGHT
DTSTART:20240310T030000
TZOFFSETFROM:-0500
TZOFFSETTO:-0400
TZNAME:EDT
END:DAYLIGHT
END:VTIMEZONE
END:VCALENDAR