BEGIN:VCALENDAR
VERSION:2.0
PRODID:-//wp-events-plugin.com//7.2.3.1//EN
TZID:America/New_York
X-WR-TIMEZONE:America/New_York
BEGIN:VEVENT
UID:462@breatheatlanta.us
DTSTART;TZID=America/New_York:20240915T110000
DTEND;TZID=America/New_York:20240915T120000
DTSTAMP:20240915T082117Z
URL:https://breatheatlanta.us/events/innercise-yoga-at-mutation-brewing-2/
SUMMARY:Innercise Yoga at Mutation Brewing
DESCRIPTION:Experience a unique blend of yoga and community at Mutation Bre
 wing this September with Innercise Yoga! This innovative event brings toge
 ther the calming practice of yoga and the vibrant atmosphere of a local br
 ewery for a refreshing twist on traditional yoga classes.\n\nEvent Highlig
 hts:\n\n 	Innercise Yoga Practice: Engage in a transformative yoga session
  that emphasizes both physical movement and mental relaxation. This practi
 ce focuses on integrating mindful breathing and movement to enhance overal
 l well-being.\n 	Unique Venue: Enjoy the ambiance of Mutation Brewing\, wh
 ere the casual and welcoming environment of the brewery provides a relaxed
  backdrop for your yoga session. It’s an opportunity to blend fitness wi
 th a social experience.\n 	Post-Yoga Enjoyment: After the class\, unwind w
 ith the option to explore the brewery’s selection of craft beers. It’s
  a perfect way to socialize and celebrate your practice with fellow partic
 ipants.\n\nWhat to Bring:\n\n 	Yoga Mat: Essential for your practice.\n 	C
 omfortable Clothing: To move freely and comfortably.\n 	Water Bottle: Stay
  hydrated throughout the session.\n\nThis event offers a refreshing take o
 n yoga by combining relaxation with community engagement in a fun and uniq
 ue setting. Whether you’re a seasoned yogi or new to the practice\, Inne
 rcise Yoga at Mutation Brewing promises an enjoyable and rejuvenating expe
 rience. Join us for a session that not only nurtures your body and mind bu
 t also connects you with a vibrant local community.\n\nGET TICKETS\n
ATTACH;FMTTYPE=image/jpeg:https://breatheatlanta.us/wp-content/uploads/202
 4/09/Innercise-Yoga-at-Mutation-Brewing.jpg
CATEGORIES:Things To Do,Wellness Events
LOCATION:Mutation Brewing Company\, 5825 Roswell Road Northeast Sandy Sprin
 gs\, Atlanta\, Georgia\, 30328 \, GA\, United States
X-APPLE-STRUCTURED-LOCATION;VALUE=URI;X-ADDRESS=5825 Roswell Road Northeast
  Sandy Springs\, Atlanta\, Georgia\, 30328 \, GA\, United States;X-APPLE-R
 ADIUS=100;X-TITLE=Mutation Brewing Company:geo:0,0
END:VEVENT
BEGIN:VTIMEZONE
TZID:America/New_York
X-LIC-LOCATION:America/New_York
BEGIN:DAYLIGHT
DTSTART:20240310T030000
TZOFFSETFROM:-0500
TZOFFSETTO:-0400
TZNAME:EDT
END:DAYLIGHT
END:VTIMEZONE
END:VCALENDAR