BEGIN:VCALENDAR
VERSION:2.0
PRODID:-//wp-events-plugin.com//7.2.3.1//EN
TZID:America/New_York
X-WR-TIMEZONE:America/New_York
BEGIN:VEVENT
UID:381@breatheatlanta.us
DTSTART;TZID=America/New_York:20240811T110000
DTEND;TZID=America/New_York:20240811T120000
DTSTAMP:20240730T181246Z
URL:https://breatheatlanta.us/events/innercise-yoga-at-mutation-brewing/
SUMMARY:Innercise Yoga at Mutation Brewing
DESCRIPTION:Discover the perfect blend of fitness and fun with Innercise Yo
 ga at Mutation Brewing. Every Sunday at 11:00 AM\, join the community for 
 a rejuvenating session of free yoga at Mutation Brewing in Sandy Springs. 
 This weekly event is designed to foster connections while offering an invi
 gorating stretch to start your day.\n\nEvent Highlights:\n\n 	Free Yoga Se
 ssions: Bring your mat and enjoy a complimentary yoga class that caters to
  all levels. Whether you're a seasoned yogi or a beginner\, everyone is we
 lcome to join in.\n 	Craft Beers and Seltzers: After your yoga practice\, 
 unwind with a selection of craft beers and take advantage of 50% off Sunda
 y Hard Seltzers. It's the perfect way to relax and socialize with fellow p
 articipants.\n 	Support Local Business: Explore unique merchandise from Ke
 lsey Reed and support her small business. Each purchase contributes to the
  local entrepreneurial spirit.\n\nBooking Information:\n\n 	Date &amp\; Ti
 me: Every Sunday at 11:00 AM\n 	Location: Mutation Brewing\, Sandy Springs
 \n 	Cost: Yoga is free or available by donation\n\nSecure your spot today 
 and experience the benefits of yoga in a vibrant\, community-centered sett
 ing. Stretch\, sip\, and support local businesses at Innercise Yoga at Mut
 ation Brewing!\n\nGET TICKETS\n
ATTACH;FMTTYPE=image/jpeg:https://breatheatlanta.us/wp-content/uploads/202
 4/07/Innercise-Yoga-at-Mutation-Brewing-August.jpg
CATEGORIES:Mindfulness Events,Things To Do,Wellness Events,Yoga Events
LOCATION:Mutation Brewing Company\, 5825 Roswell Road Northeast Sandy Sprin
 gs\, Atlanta\, GA\, 30328\, GA\, United States
X-APPLE-STRUCTURED-LOCATION;VALUE=URI;X-ADDRESS=5825 Roswell Road Northeast
  Sandy Springs\, Atlanta\, GA\, 30328\, GA\, United States;X-APPLE-RADIUS=
 100;X-TITLE=Mutation Brewing Company:geo:0,0
END:VEVENT
BEGIN:VTIMEZONE
TZID:America/New_York
X-LIC-LOCATION:America/New_York
BEGIN:DAYLIGHT
DTSTART:20240310T030000
TZOFFSETFROM:-0500
TZOFFSETTO:-0400
TZNAME:EDT
END:DAYLIGHT
END:VTIMEZONE
END:VCALENDAR