BEGIN:VCALENDAR
VERSION:2.0
PRODID:-//wp-events-plugin.com//7.2.3.1//EN
TZID:America/New_York
X-WR-TIMEZONE:America/New_York
BEGIN:VEVENT
UID:486@breatheatlanta.us
DTSTART;TZID=America/New_York:20241024T180000
DTEND;TZID=America/New_York:20241024T200000
DTSTAMP:20240925T101449Z
URL:https://breatheatlanta.us/events/innercise-yoga-at-the-georgian-terrac
 e-hotel-2/
SUMMARY:Innercise Yoga at the Georgian Terrace Hotel
DESCRIPTION:\n\n\n\n\nExperience the unique blend of urban tranquility and 
 luxury with Innercise Yoga at the Georgian Terrace Hotel. Nestled in the h
 eart of the city\, this modern luxury hotel boasts sophisticated decor and
  a rich historical background\, making it the perfect backdrop for a rejuv
 enating yoga session.\n\nParticipants will have the opportunity to practic
 e yoga on the hotel’s stunning outdoor terrace\, a serene oasis amidst t
 he city hustle and bustle. This session invites attendees to connect spiri
 tually and physically through mindful stretching and relaxation techniques
 .\n\nAs a special treat\, participants can enjoy one complimentary cocktai
 l or mocktail of their choice after the class. For those looking to extend
  their evening\, the Georgian Terrace features two on-site restaurants\, L
 ivingston and Edgar's Proof &amp\; Provision\, offering a delightful dinin
 g experience.\n\nAttendees are encouraged to bring their own yoga mats and
  join this invigorating Innercise session\, led by expert instructors.\n\n
 This event is powered by lululemon\, reflecting a commitment to wellness a
 nd community connection. Join us for a unique yoga experience that blends 
 relaxation\, socialization\, and the vibrant energy of the city!\n\n\n\n\n
 \n\nGET TICKETS\n
ATTACH;FMTTYPE=image/jpeg:https://breatheatlanta.us/wp-content/uploads/202
 4/09/Innercise-Yoga-at-the-Georgian-Terrace-Hotel.jpg
CATEGORIES:Yoga Events
LOCATION:The Georgian Terrace\, 659 Peachtree Street \, Northeast Atlanta\,
  Georgia\, 30308\, GA\, United States
X-APPLE-STRUCTURED-LOCATION;VALUE=URI;X-ADDRESS=659 Peachtree Street \, Nor
 theast Atlanta\, Georgia\, 30308\, GA\, United States;X-APPLE-RADIUS=100;X
 -TITLE=The Georgian Terrace:geo:0,0
END:VEVENT
BEGIN:VTIMEZONE
TZID:America/New_York
X-LIC-LOCATION:America/New_York
BEGIN:DAYLIGHT
DTSTART:20240310T030000
TZOFFSETFROM:-0500
TZOFFSETTO:-0400
TZNAME:EDT
END:DAYLIGHT
END:VTIMEZONE
END:VCALENDAR