BEGIN:VCALENDAR
VERSION:2.0
PRODID:-//wp-events-plugin.com//7.2.3.1//EN
TZID:America/New_York
X-WR-TIMEZONE:America/New_York
BEGIN:VEVENT
UID:306@breatheatlanta.us
DTSTART;TZID=America/New_York:20240725T180000
DTEND;TZID=America/New_York:20240725T200000
DTSTAMP:20240626T182639Z
URL:https://breatheatlanta.us/events/innercise-yoga-at-the-georgian-terrac
 e-hotel/
SUMMARY:Innercise Yoga at the Georgian Terrace Hotel
DESCRIPTION:Experience tranquility and sophistication with Innercise Yoga a
 t The Georgian Terrace Hotel\, a modern luxury destination rich in history
 . Nestled in the heart of the city\, the hotel’s outdoor terrace offers 
 a serene oasis perfect for spiritual and physical rejuvenation.\nWhat to E
 xpect?\n\n 	Yoga Session: Engage in a revitalizing yoga practice designed 
 to connect mind\, body\, and spirit. The session caters to all levels\, pr
 oviding a perfect blend of stretching\, strengthening\, and relaxation. Th
 e serene outdoor terrace setting adds an extra layer of calm\, making it a
 n ideal spot to unwind.\n 	Complimentary Beverage: After the class\, enjoy
  a complimentary cocktail or mocktail of your choice. This refreshing trea
 t is the perfect way to conclude your session\, allowing you to savor the 
 moment of relaxation and tranquility.\n 	On-site Dining: Extend your exper
 ience by dining at one of the hotel’s renowned restaurants. Choose from 
 Livingston\, known for its elegant ambiance and exquisite menu\, or Edgar'
 s Proof &amp\; Provision\, which offers a more laid-back\, yet equally del
 ightful dining experience.\n\nWhy Attend?\n\n 	Historic Elegance: The Geor
 gian Terrace Hotel combines modern luxury with historical charm\, providin
 g a unique and inspiring backdrop for your yoga practice.\n 	Urban Oasis: 
 Find peace in the city’s hustle and bustle on the hotel’s beautifully 
 designed outdoor terrace\, perfect for connecting with nature and enhancin
 g your yoga experience.\n 	Community and Connection: Join a community of l
 ike-minded individuals who share your passion for yoga and well-being. Bui
 ld new connections and enjoy the collective energy of group practice.\n 	H
 olistic Experience: Beyond yoga\, indulge in a holistic experience with a 
 complimentary beverage and the option to explore top-tier dining options\,
  making your evening truly special.\n\nAbout The Georgian Terrace Hotel\nT
 he Georgian Terrace Hotel stands as a beacon of luxury and history in the 
 city. Known for its sophisticated decor and modern amenities\, it provides
  an unparalleled setting for relaxation and rejuvenation. Join us for Inne
 rcise Yoga and discover the perfect blend of history\, luxury\, and holist
 ic well-being.\n\nGET TICKETS\n
ATTACH;FMTTYPE=image/jpeg:https://breatheatlanta.us/wp-content/uploads/202
 4/06/Innercise-Yoga-at-the-Georgian-Terrace-Hotel.jpg
CATEGORIES:Mindfulness Events,Wellness Events,Yoga Events
LOCATION:The Georgian Terrace\, 659 Peachtree Street Northeast Atlanta\, At
 lanta\, Georgia\, 30308\, GA\, United States
X-APPLE-STRUCTURED-LOCATION;VALUE=URI;X-ADDRESS=659 Peachtree Street Northe
 ast Atlanta\, Atlanta\, Georgia\, 30308\, GA\, United States;X-APPLE-RADIU
 S=100;X-TITLE=The Georgian Terrace:geo:0,0
END:VEVENT
BEGIN:VTIMEZONE
TZID:America/New_York
X-LIC-LOCATION:America/New_York
BEGIN:DAYLIGHT
DTSTART:20240310T030000
TZOFFSETFROM:-0500
TZOFFSETTO:-0400
TZNAME:EDT
END:DAYLIGHT
END:VTIMEZONE
END:VCALENDAR