BEGIN:VCALENDAR
VERSION:2.0
PRODID:-//wp-events-plugin.com//7.2.3.1//EN
TZID:America/New_York
X-WR-TIMEZONE:America/New_York
BEGIN:VEVENT
UID:470@breatheatlanta.us
DTSTART;TZID=America/New_York:20241025T183000
DTEND;TZID=America/New_York:20241026T150000
DTSTAMP:20240923T160542Z
URL:https://breatheatlanta.us/events/inspired-lifestyle-conference-atl/
SUMMARY:Inspired Lifestyle Conference ATL
DESCRIPTION:The Inspired Lifestyle Conference in Atlanta is a groundbreakin
 g event that aims to gather over 200 individuals\, both men and women\, wh
 o are driven to improve their mental well-being and foster meaningful conn
 ections. This one-of-a-kind conference will provide a space where attendee
 s can be empowered\, inspired\, and motivated to prioritize mental health\
 , build healthier relationships\, and embrace transformative lifestyle cha
 nges for overall well-being.\n\nThe event will feature influential communi
 ty leaders\, engaging panel discussions\, interactive networking sessions\
 , and live performances\, creating a dynamic and uplifting experience for 
 everyone in attendance. With a focus on holistic mental health and communi
 ty building\, the Inspired Lifestyle Conference promises to be an unparall
 eled gathering\, setting a new standard for such events. Attendees will wa
 lk away not only with practical tools for personal growth but also with a 
 renewed sense of community and purpose.\n\n&nbsp\;\n\nGET TICKETS\n
ATTACH;FMTTYPE=image/jpeg:https://breatheatlanta.us/wp-content/uploads/202
 4/09/Inspired-Lifestyle-Conference-ATL.jpg
CATEGORIES:Wellness Events
LOCATION:Riverside EpiCenter\, 135 Riverside Parkway Austell\, Atlanta\, Ge
 orgia\, 30168 \, GA\, United States
X-APPLE-STRUCTURED-LOCATION;VALUE=URI;X-ADDRESS=135 Riverside Parkway Auste
 ll\, Atlanta\, Georgia\, 30168 \, GA\, United States;X-APPLE-RADIUS=100;X-
 TITLE=Riverside EpiCenter:geo:0,0
END:VEVENT
BEGIN:VTIMEZONE
TZID:America/New_York
X-LIC-LOCATION:America/New_York
BEGIN:DAYLIGHT
DTSTART:20240310T030000
TZOFFSETFROM:-0500
TZOFFSETTO:-0400
TZNAME:EDT
END:DAYLIGHT
END:VTIMEZONE
END:VCALENDAR