BEGIN:VCALENDAR
VERSION:2.0
PRODID:-//wp-events-plugin.com//7.2.3.1//EN
TZID:America/New_York
X-WR-TIMEZONE:America/New_York
BEGIN:VEVENT
UID:605@breatheatlanta.us
DTSTART;TZID=America/New_York:20241110T120000
DTEND;TZID=America/New_York:20241110T150000
DTSTAMP:20241012T181327Z
URL:https://breatheatlanta.us/events/intentional-journaling/
SUMMARY:Intentional Journaling
DESCRIPTION:Welcome to Intentional Journaling\, an inspiring and transforma
 tive event designed to help you tap into the power of reflective writing. 
 Hosted at The Lola\, this gathering is perfect for anyone\, whether you're
  a seasoned writer or just beginning to explore the world of journaling. I
 t’s an opportunity for individuals of all backgrounds to dive deeper int
 o their thoughts\, emotions\, and creative expression through guided journ
 aling exercises.\n\nDuring this enriching session\, participants will lear
 n new techniques and explore thoughtfully curated prompts that encourage s
 elf-reflection\, mindfulness\, and personal growth. The event is structure
 d to foster a deeper connection with your inner self while helping you dev
 elop a writing practice that enhances both mental clarity and emotional we
 ll-being. You’ll be introduced to different styles of journaling\, from 
 free-flowing entries to structured approaches that encourage intentional g
 oal setting and emotional processing.\n\nNot only will this experience all
 ow for personal discovery\, but it also offers the chance to connect with 
 like-minded individuals in a warm\, cozy\, and creative atmosphere. The Lo
 la provides the perfect environment—comfortable\, inspiring\, and suppor
 tive—for participants to engage in meaningful conversations\, share idea
 s\, and gain insights from fellow attendees.\n\nWhether you’re looking t
 o cultivate a daily journaling habit or simply explore new methods of self
 -expression\, this event is a unique opportunity to nurture your creativit
 y\, boost your mental well-being\, and deepen your understanding of yourse
 lf. Don't miss out on this enriching journey of self-discovery through wri
 ting. We look forward to seeing you there!\n\nGET TICKETS\n
ATTACH;FMTTYPE=image/jpeg:https://breatheatlanta.us/wp-content/uploads/202
 4/10/Intentional-Journaling.jpeg
CATEGORIES:Wellness Events
LOCATION:The Lola\, 621 North Avenue \, Northeast #D-100 Atlanta\, Georgia\
 , 30308\, GA\, United States
X-APPLE-STRUCTURED-LOCATION;VALUE=URI;X-ADDRESS=621 North Avenue \, Northea
 st #D-100 Atlanta\, Georgia\, 30308\, GA\, United States;X-APPLE-RADIUS=10
 0;X-TITLE=The Lola:geo:0,0
END:VEVENT
BEGIN:VTIMEZONE
TZID:America/New_York
X-LIC-LOCATION:America/New_York
BEGIN:STANDARD
DTSTART:20241103T010000
TZOFFSETFROM:-0400
TZOFFSETTO:-0500
TZNAME:EST
END:STANDARD
END:VTIMEZONE
END:VCALENDAR