BEGIN:VCALENDAR
VERSION:2.0
PRODID:-//wp-events-plugin.com//7.2.3.1//EN
TZID:America/New_York
X-WR-TIMEZONE:America/New_York
BEGIN:VEVENT
UID:213@breatheatlanta.us
DTSTART;TZID=America/New_York:20240621T110000
DTEND;TZID=America/New_York:20240621T120000
DTSTAMP:20240403T123442Z
URL:https://breatheatlanta.us/events/international-yoga-day/
SUMMARY:INTERNATIONAL YOGA DAY
DESCRIPTION:\n\n\n\n\n\n\n\n\n\n\n\nCelebrating International Yoga Day toge
 ther on June 21st at 11:00 AM\, where we'll come together for relaxing and
  rejuvenating yoga sessions!\nEvent Information:\n\nEvent Name: INTERNATIO
 NAL YOGA DAY\n\nHost: To Each Is Om Yoga and Wellness\, LLc.\n\nDate and T
 ime: Friday\, June 21 • 11:00 AM - 12:00 PM EDT\n\nLocation: Alexander P
 ark\, 800 Old Snellville Highway\, Lawrenceville\, GA 30044\, United State
 s\n\nTicket Price: FREE\n\nGET TICKETS\n\nAbout this Event:\n\nCelebrate I
 nternational Yoga Day with To Each Is Om and Gwinnett County's Live Health
 y Gwinnett team at Alexander Park. This complimentary yoga session\, honor
 ing the Spring Equinox\, invites all participants to amidst the greenery f
 or an hour of rejuvenating yoga from 11 am to 12 noon on Friday\, June 21s
 t. Whether you're new to yoga or a seasoned practitioner\, this gathering 
 offers a perfect opportunity to relax\, rejuvenate\, and deepen your conne
 ction with yourself. Please bring your yoga mat\, water bottle\, and Posit
 ive Vibe\, and let's experience this moment of peace together in the embra
 ce of nature.\n\nWorkout Session Detail:\n\nType: Yoga\n\nDuration: 1 hour
 \n\nLocation: OUTDOOR CLASSROOM at Alexander Park\n\nHosted By: To Each Is
  Om Yoga and Wellness\, LLc.\n\nEssential for Bring:\n\nYoga Mat\n\nWater 
 Bottle\n\nPositive Vibe\n\nAdditional Notes:\n\nThe event is open to all l
 evels of yoga practitioners.\n\nLet the fresh air rejuvenate your spirit a
 s you stretch into vitality and embrace inner calm amidst the natural surr
 oundings of Alexander Park.\n\n\n\n\n\n\n\n\n\n\n\n\n\n\n\n\n\n\n
ATTACH;FMTTYPE=image/jpeg:https://breatheatlanta.us/wp-content/uploads/202
 4/04/https___cdn.evbuc_.com_images_732370649_20268966490_1_original.jpg
CATEGORIES:Wellness Events,Yoga Events
LOCATION:Alexander Park\, 800 Old Snellville Highway Lawrenceville\, GA 300
 44 United States\, GA \, United States\, 30044 \, GA \, United States
X-APPLE-STRUCTURED-LOCATION;VALUE=URI;X-ADDRESS=800 Old Snellville Highway 
 Lawrenceville\, GA 30044 United States\, GA \, United States\, 30044 \, GA
  \, United States;X-APPLE-RADIUS=100;X-TITLE=Alexander Park:geo:0,0
END:VEVENT
BEGIN:VTIMEZONE
TZID:America/New_York
X-LIC-LOCATION:America/New_York
BEGIN:DAYLIGHT
DTSTART:20240310T030000
TZOFFSETFROM:-0500
TZOFFSETTO:-0400
TZNAME:EDT
END:DAYLIGHT
END:VTIMEZONE
END:VCALENDAR