BEGIN:VCALENDAR
VERSION:2.0
PRODID:-//wp-events-plugin.com//7.2.3.1//EN
TZID:America/New_York
X-WR-TIMEZONE:America/New_York
BEGIN:VEVENT
UID:718@breatheatlanta.us
DTSTART;TZID=America/New_York:20241108T090000
DTEND;TZID=America/New_York:20241110T220000
DTSTAMP:20241025T101252Z
URL:https://breatheatlanta.us/events/irishfest-atlanta/
SUMMARY:IrishFest Atlanta
DESCRIPTION:IrishFest Atlanta returns to historic Roswell\, inviting visito
 rs to experience an immersive celebration of Irish culture\, heritage\, an
 d community. This annual festival offers a lively lineup of traditional an
 d contemporary Irish music\, spirited dance performances\, and screenings 
 of acclaimed Irish short films that showcase the creativity of Ireland’s
  storytelling traditions.\n\nIn addition to entertainment\, festival-goers
  can deepen their appreciation for Irish heritage through interactive work
 shops\, including language sessions for those wanting to try their hand at
  Gaelic and hands-on classes in Irish crafts. Attendees can also explore t
 he artistry of traditional Irish sports\, with demonstrations and opportun
 ities to learn about Gaelic games like hurling and Gaelic football\, widel
 y celebrated as the heartbeat of Irish sports.\n\nIrishFest Atlanta is as 
 much a culinary journey as it is a cultural one. The festival’s food and
  drink offerings feature beloved Irish fare and\, of course\, signature dr
 inks like rich stouts and refreshing ciders for a true taste of Ireland. I
 deal for families\, friends\, and Irish culture enthusiasts\, the festival
  promises an authentic\, engaging day filled with the vibrant spirit of Ir
 eland\, welcoming all to celebrate and share in the rich traditions of the
  Emerald Isle.\n\nGET TICKETS\n
ATTACH;FMTTYPE=image/jpeg:https://breatheatlanta.us/wp-content/uploads/202
 4/10/IrishFest-Atlanta.jpg
CATEGORIES:Things To Do
LOCATION:Roswell Cultural Arts Center\, 950 Forrest St\, Roswell\, Atlanta\
 , Georgia\, 30075\,  GA\, United States
X-APPLE-STRUCTURED-LOCATION;VALUE=URI;X-ADDRESS=950 Forrest St\, Roswell\, 
 Atlanta\, Georgia\, 30075\,  GA\, United States;X-APPLE-RADIUS=100;X-TITLE
 =Roswell Cultural Arts Center:geo:0,0
END:VEVENT
BEGIN:VTIMEZONE
TZID:America/New_York
X-LIC-LOCATION:America/New_York
BEGIN:STANDARD
DTSTART:20241103T010000
TZOFFSETFROM:-0400
TZOFFSETTO:-0500
TZNAME:EST
END:STANDARD
END:VTIMEZONE
END:VCALENDAR