BEGIN:VCALENDAR
VERSION:2.0
PRODID:-//wp-events-plugin.com//7.2.3.1//EN
TZID:America/New_York
X-WR-TIMEZONE:America/New_York
BEGIN:VEVENT
UID:669@breatheatlanta.us
DTSTART;TZID=America/New_York:20241026T110000
DTEND;TZID=America/New_York:20241026T130000
DTSTAMP:20241018T103048Z
URL:https://breatheatlanta.us/events/join-us-for-brunch-an-introduction-to
 -atlanta-thrive/
SUMMARY:Join us for Brunch: An Introduction to Atlanta Thrive
DESCRIPTION:Everyone is invited to a delightful brunch event aimed at intro
 ducing attendees to Atlanta Thrive\, a community-focused initiative dedica
 ted to advocating for education in Atlanta Public Schools. Set in the welc
 oming atmosphere of 1036 White Street\, this in-person gathering provides 
 a unique opportunity to indulge in delicious food while engaging with like
 -minded individuals and influential community leaders.\n\nThis event is pe
 rfect for newcomers to Atlanta seeking to connect with the local community
 \, as well as long-time residents eager to make a meaningful impact. Atten
 dees will have the chance to learn more about the important work being don
 e by Atlanta Thrive and discover how they can get involved in supporting e
 ducational advocacy efforts.\n\nParticipants can look forward to enriching
  discussions\, networking opportunities\, and the chance to share their ow
 n experiences and ideas. Whether you’re passionate about education or si
 mply want to enjoy a great brunch in the company of inspiring individuals\
 , this event promises to be an exciting and fulfilling experience.\n\nDon
 ’t miss out on this wonderful opportunity to connect\, learn\, and share
  a meal with the community. Come join us for a brunch that could be the fi
 rst step in making a significant difference in the lives of students and f
 amilies in Atlanta!\n\nGET TICKETS\n
ATTACH;FMTTYPE=image/jpeg:https://breatheatlanta.us/wp-content/uploads/202
 4/10/Join-us-for-Brunch-An-Introduction-to-Atlanta-Thrive.jpg
CATEGORIES:Things To Do
LOCATION:1036 White St SW\, 1036 White Street Southwest Atlanta\, Atlanta\,
  Georgia\, 30310\,  GA\, United States
X-APPLE-STRUCTURED-LOCATION;VALUE=URI;X-ADDRESS=1036 White Street Southwest
  Atlanta\, Atlanta\, Georgia\, 30310\,  GA\, United States;X-APPLE-RADIUS=
 100;X-TITLE=1036 White St SW:geo:0,0
END:VEVENT
BEGIN:VTIMEZONE
TZID:America/New_York
X-LIC-LOCATION:America/New_York
BEGIN:DAYLIGHT
DTSTART:20240310T030000
TZOFFSETFROM:-0500
TZOFFSETTO:-0400
TZNAME:EDT
END:DAYLIGHT
END:VTIMEZONE
END:VCALENDAR