BEGIN:VCALENDAR
VERSION:2.0
PRODID:-//wp-events-plugin.com//7.2.3.1//EN
TZID:America/New_York
X-WR-TIMEZONE:America/New_York
BEGIN:VEVENT
UID:338@breatheatlanta.us
DTSTART;TZID=America/New_York:20240727T000000
DTEND;TZID=America/New_York:20240727T000000
DTSTAMP:20240627T062949Z
URL:https://breatheatlanta.us/events/jollof-festival-atlanta/
SUMMARY:Jollof Festival Atlanta
DESCRIPTION:Experience the ultimate celebration of flavor and culture at th
 e Jollof Festival Atlanta! Join us on Sat\, Jul 20\, 2024\, starting at 3:
 00 PM\, for an unforgettable culinary journey featuring the best Jollof ri
 ce dishes in town.\n\nWhat to Expect:\n\nPrepare your taste buds for a tan
 talizing adventure as you sample a variety of mouth-watering Jollof rice d
 ishes prepared by talented chefs.\n\nHighlights:\n\n 	Delicious Jollof Ric
 e: Taste and savor a wide selection of Jollof rice dishes\, each prepared 
 with unique flavors and spices.\n 	Cultural Experience: Immerse yourself i
 n the rich cultural heritage of West Africa through food\, music\, and mor
 e.\n 	Fun and Entertainment: Enjoy live music\, cultural performances\, an
 d family-friendly activities throughout the event.\n\nWhy Attend:\n\n 	Cul
 inary Delights: Experience the diverse and flavorful world of Jollof rice\
 , a beloved dish celebrated across Africa.\n 	Community Gathering: Connect
  with friends\, family\, and fellow food enthusiasts while exploring diffe
 rent Jollof rice recipes.\n 	Celebrate Culture: Join in the celebration of
  African culture\, tradition\, and culinary excellence.\n\nJoin Us:\n\nDon
 't miss out on this tasty event! Bring your friends and family for a day f
 illed with delicious food\, vibrant music\, and cultural festivities at th
 e Jollof Festival Atlanta!\n\nGET TICKETS\n
ATTACH;FMTTYPE=image/jpeg:https://breatheatlanta.us/wp-content/uploads/202
 4/06/Jollof-Festival-Atlanta.jpg
CATEGORIES:Food &amp; Drink Events
LOCATION:Westside Motor Lounge\, 725 Echo Street Northwest Atlanta\, Atlant
 a\, Georgia\, 30318\, GA\, United States
X-APPLE-STRUCTURED-LOCATION;VALUE=URI;X-ADDRESS=725 Echo Street Northwest A
 tlanta\, Atlanta\, Georgia\, 30318\, GA\, United States;X-APPLE-RADIUS=100
 ;X-TITLE=Westside Motor Lounge:geo:0,0
END:VEVENT
BEGIN:VTIMEZONE
TZID:America/New_York
X-LIC-LOCATION:America/New_York
BEGIN:DAYLIGHT
DTSTART:20240310T030000
TZOFFSETFROM:-0500
TZOFFSETTO:-0400
TZNAME:EDT
END:DAYLIGHT
END:VTIMEZONE
END:VCALENDAR