BEGIN:VCALENDAR
VERSION:2.0
PRODID:-//wp-events-plugin.com//7.2.3.1//EN
TZID:America/New_York
X-WR-TIMEZONE:America/New_York
BEGIN:VEVENT
UID:642@breatheatlanta.us
DTSTART;TZID=America/New_York:20241026T120000
DTEND;TZID=America/New_York:20241026T180000
DTSTAMP:20241018T074737Z
URL:https://breatheatlanta.us/events/keller-williams-metro-atlanta-vip-are
 a-at-decatur-bbq-bands/
SUMMARY:Keller Williams Metro Atlanta VIP Area at Decatur BBQ & Bands
DESCRIPTION:Mark your calendars for Decatur BBQ &amp\; Bands on October 26t
 h\, from 12 p.m. to 6 p.m. at Harmony Park in Oakhurst! This highly antici
 pated event promises a day of delightful experiences\, featuring a variety
  of drinks\, live music\, delicious food tastings\, and an unmistakable sp
 irit of community.\n\nKeller Williams Realty Metro Atlanta is excited to b
 e the main sponsor of this vibrant gathering\, which will be hosted by For
 d’s BBQ. While admission to the event is free and open to everyone\, gue
 sts looking for an elevated experience can purchase an exclusive VIP ticke
 t for access to the KW VIP Tent. This private area\, conveniently located 
 just outside of Ford's BBQ\, offers comfortable seating\, tables\, and a p
 rivate bathroom facility for added convenience.\n\nVIP ticket holders can 
 indulge in a selection of craft beers and specialty Tito's cocktails\, alo
 ngside tickets for a variety of the festival's tantalizing food tastings. 
 It’s a unique opportunity to enjoy gourmet flavors while mingling in a r
 elaxed atmosphere.\n\nAdditionally\, all proceeds from this exciting event
  will benefit The Solarium at Historic Scottish Rite and their Community G
 rant Program\, ensuring that your participation also contributes to a wort
 hwhile cause.\n\nThe event wouldn't be possible without the generous suppo
 rt of our Title Sponsors: Shelter Mortgage\, Highland Mortgage\, The Fryer
  Law Firm\, and Atlanta Peach Movers.\n\nKeller Williams Realty Metro Atla
 nta looks forward to celebrating with everyone at this fantastic community
  event. Don’t miss out on a day filled with great food\, fantastic music
 \, and lasting memories!\n\nGET TICKETS\n
ATTACH;FMTTYPE=image/jpeg:https://breatheatlanta.us/wp-content/uploads/202
 4/10/Keller-Williams-Metro-Atlanta-VIP-Area-at-Decatur-BBQ-Bands.jpg
CATEGORIES:Food &amp; Drink Events,Things To Do
LOCATION:Ford's BBQ Oakhurst\, 350 Mead Road #Suite A &amp\; B Decatur\, At
 lanta\, Georgia\, 30030 \, GA\, United States
X-APPLE-STRUCTURED-LOCATION;VALUE=URI;X-ADDRESS=350 Mead Road #Suite A & B 
 Decatur\, Atlanta\, Georgia\, 30030 \, GA\, United States;X-APPLE-RADIUS=1
 00;X-TITLE=Ford's BBQ Oakhurst:geo:0,0
END:VEVENT
BEGIN:VTIMEZONE
TZID:America/New_York
X-LIC-LOCATION:America/New_York
BEGIN:DAYLIGHT
DTSTART:20240310T030000
TZOFFSETFROM:-0500
TZOFFSETTO:-0400
TZNAME:EDT
END:DAYLIGHT
END:VTIMEZONE
END:VCALENDAR