BEGIN:VCALENDAR
VERSION:2.0
PRODID:-//wp-events-plugin.com//7.2.3.1//EN
TZID:America/New_York
X-WR-TIMEZONE:America/New_York
BEGIN:VEVENT
UID:441@breatheatlanta.us
DTSTART;TZID=America/New_York:20240928T130000
DTEND;TZID=America/New_York:20240928T150000
DTSTAMP:20240903T192248Z
URL:https://breatheatlanta.us/events/kiss-of-the-whale-book-presentation-c
 elebration-signing-event/
SUMMARY:"Kiss of the Whale” Book presentation\, Celebration & Signing Eve
 nt
DESCRIPTION:Join us for a long-anticipated event as we celebrate the releas
 e of "Kiss of the Whale\," a deeply personal and transformative memoir by 
 international bestselling author\, psychotherapist\, scholar\, and spiritu
 al advisor\, Vesta Chandler.\n\nVesta’s remarkable journey as a healer a
 nd world traveler began in 2010\, when she was forced to flee her home cou
 ntry amidst a harrowing court battle over child custody and the pain of se
 vere parental alienation. Armed with only a one-way ticket\, she embarked 
 on a five-year odyssey across Vietnam\, Thailand\, India\, the Middle East
 \, and Europe. This journey\, fraught with challenges and profound discove
 ries\, led to extraordinary personal and professional transformations.\n\n
 In "Kiss of the Whale\," Vesta chronicles her encounters with shamans\, sa
 ges\, and royalty\, as well as her participation in sacred ceremonies and 
 pilgrimages. The book is a vivid tapestry of experiences\, including recei
 ving a sacred tattoo in a Thai monastery\, managing a nightclub in Mumbai\
 , opening a Russian restaurant in Chennai\, and living in remote Himalayan
  villages. Each chapter reveals a new layer of her quest for healing and u
 nderstanding\, all while reflecting her unwavering love for her kidnapped 
 daughter through intimate letters penned throughout her travels.\n\nVesta'
 s notes\, meticulously taken during her journey\, were woven into this com
 pelling book in 2018. "Kiss of the Whale" is a story of healing\, reconnec
 tion\, and self-empowerment\, written during a time of great personal and 
 global change. It is a book for anyone who seeks depth and resonates with 
 the profound emotions that accompany such a journey.\n\nNow available in E
 nglish\, "Kiss of the Whale" invites readers to connect with the wisdom wi
 thin themselves. Vesta is thrilled to share this special moment with you\,
  offering a unique opportunity to explore her world through storytelling\,
  visuals\, and heartfelt connections.\n\nEvent Highlights:\n\n 	Receive a 
 personalized message from "Kiss of the Whale" as a keepsake.\n 	Enjoy imme
 rsive storytelling\, accompanied by photos and videos from Vesta’s extra
 ordinary journey.\n 	Savor delicious Indian food\, snacks\, and Masala Cha
 i in a cozy atmosphere.\n 	Connect with like-minded individuals in warm an
 d inviting company.\n 	Get your copy of "Kiss of the Whale" signed by Vest
 a herself.\n\nJoin us for an evening of celebration\, reflection\, and ins
 piration as we honor the birth of this remarkable book and the incredible 
 journey it represents.\n\nGET TICKETS\n
ATTACH;FMTTYPE=image/jpeg:https://breatheatlanta.us/wp-content/uploads/202
 4/09/Kiss-of-the-Whale-Book-presentation-Celebration-Signing-Event.jpg
CATEGORIES:Mindfulness Events,Things To Do
LOCATION:Aum Studio for Wellness\, 11550 Webb Bridge Way #Suite B2 Alpharet
 ta\, GA 30005 United States\, GA \, United States\, 30005 \,  GA \, United
  States
X-APPLE-STRUCTURED-LOCATION;VALUE=URI;X-ADDRESS=11550 Webb Bridge Way #Suit
 e B2 Alpharetta\, GA 30005 United States\, GA \, United States\, 30005 \, 
  GA \, United States;X-APPLE-RADIUS=100;X-TITLE=Aum Studio for Wellness:ge
 o:0,0
END:VEVENT
BEGIN:VTIMEZONE
TZID:America/New_York
X-LIC-LOCATION:America/New_York
BEGIN:DAYLIGHT
DTSTART:20240310T030000
TZOFFSETFROM:-0500
TZOFFSETTO:-0400
TZNAME:EDT
END:DAYLIGHT
END:VTIMEZONE
END:VCALENDAR