BEGIN:VCALENDAR
VERSION:2.0
PRODID:-//wp-events-plugin.com//7.2.3.1//EN
TZID:America/New_York
X-WR-TIMEZONE:America/New_York
BEGIN:VEVENT
UID:408@breatheatlanta.us
DTSTART;TZID=America/New_York:20240810T183000
DTEND;TZID=America/New_York:20240810T193000
DTSTAMP:20240802T184043Z
URL:https://breatheatlanta.us/events/kokedama-workshop/
SUMMARY:Kokedama Workshop
DESCRIPTION:Join us for an immersive and hands-on experience at our Kokedam
 a Workshop\, where you'll learn the beautiful and meditative practice of k
 okedama. Select from a variety of lush plants and create your own botanica
 l masterpiece with the guidance of our knowledgeable PlantHouse crew. You'
 ll shape your soil ball\, wrap it in moss\, and secure it with twine\, res
 ulting in a stunning\, eco-friendly display piece.\n\nWhat's Included:\n\n
  	Expert guidance from the PlantHouse crew on kokedama planting techniques
 \n 	A choice of various plants to suit your taste and style\n 	High-qualit
 y materials including soil\, moss\, and twine\n 	Non-alcoholic beverages a
 vailable for purchase to fuel your creativity\n\nTicket Options:\n\n 	Indi
 vidual Ticket: Includes workshop participation and all materials needed to
  create your own kokedama masterpiece.\n 	Project Sharing Ticket: Ideal fo
 r pairs who wish to collaborate on a single project.\n\nUnleash your creat
 ivity in the welcoming atmosphere of our plant store\, surrounded by lush 
 greenery and good company. Whether you're a seasoned plant enthusiast or a
  curious beginner\, this workshop is designed to inspire and delight.\n\nS
 pecial Offer:\n\nArrive early or stay after the workshop to shop our retai
 l plant shelves and enjoy a special discount! Show your workshop ticket at
  checkout to receive 20% off plants. Treat yourself to an extra leafy frie
 nd—this discount is only available on the day of your workshop reservati
 on.\n\nSpaces are limited\, so secure your spot today and embark on a jour
 ney to craft your own living work of art!\n\nGET TICKETS\n
ATTACH;FMTTYPE=image/jpeg:https://breatheatlanta.us/wp-content/uploads/202
 4/08/Kokedama-Workshop.jpg
CATEGORIES:Mindfulness Events,Nature Events,Things To Do
LOCATION:PlantHouse - Decatur\, 112 West Trinity Place Decatur\, Atlanta\, 
 Georgia\, 30030\, GA\, United States
X-APPLE-STRUCTURED-LOCATION;VALUE=URI;X-ADDRESS=112 West Trinity Place Deca
 tur\, Atlanta\, Georgia\, 30030\, GA\, United States;X-APPLE-RADIUS=100;X-
 TITLE=PlantHouse - Decatur:geo:0,0
END:VEVENT
BEGIN:VTIMEZONE
TZID:America/New_York
X-LIC-LOCATION:America/New_York
BEGIN:DAYLIGHT
DTSTART:20240310T030000
TZOFFSETFROM:-0500
TZOFFSETTO:-0400
TZNAME:EDT
END:DAYLIGHT
END:VTIMEZONE
END:VCALENDAR