BEGIN:VCALENDAR
VERSION:2.0
PRODID:-//wp-events-plugin.com//7.2.3.1//EN
TZID:America/New_York
X-WR-TIMEZONE:America/New_York
BEGIN:VEVENT
UID:149@breatheatlanta.us
DTSTART;TZID=America/New_York:20240403T181500
DTEND;TZID=America/New_York:20240403T191500
DTSTAMP:20240326T114130Z
URL:https://breatheatlanta.us/events/kula-wellness-group-wednesday-yoga-in
 -peachtree-corners/
SUMMARY:Kula Wellness Group - Wednesday Yoga in Peachtree Corners
DESCRIPTION:\n\n\n\nEvent Information:\n\n\n\n\nEmbark on a transformative 
 journey into yoga therapy with Amanda\, delving into holistic wellness pra
 ctices and personalized experiences in a nurturing small group setting. Ex
 plore mindfulness\, meditation\, and self-exploration for holistic well-be
 ing.\n\n\n\n\n\n 	Date and Time: Wednesday\, April 3 · 6:15 - 7:15 pm EDT
 \n 	Location: Kula Wellness Group Gwinnett\, 5960 Crooked Creek Road North
 west #Suite 140J Norcross\, GA 30092 United States\n\nAbout this Event:\n\
 nEmbark on an enriching yoga journey led by dedicated yoga therapist Amand
 a. Held every Wednesday evening at our Peachtree Corners location\, these 
 intimate small-group sessions cater to no more than 6 individuals\, ensuri
 ng a personalized and immersive experience. Explore holistic wellness prac
 tices including breathing techniques\, yoga postures\, mindfulness\, and m
 editation for self-exploration and growth.\n\nTicket Information:\n\nConta
 ct the organizer for ticket availability and details.\n\n&nbsp\;\n\nGET TI
 CKETS\n\nWorkout Session Detail:\n\nThe session includes breathing techniq
 ues\, yoga postures\, mindfulness practices\, and guided meditation.\n\nEs
 sential for Bring:\n\n 	Comfortable yoga attire\n 	Yoga mat (if available)
 \n 	Open mind for self-exploration and growth\n\nParking Option:\n\nAvaila
 ble at Kula Wellness Group Gwinnett.\n\nEmbark on a holistic well-being jo
 urney with dedicated yoga therapy sessions led by Amanda at Kula Wellness 
 Group Gwinnett!\n\n\n\n\n\n\n\n
ATTACH;FMTTYPE=image/jpeg:https://breatheatlanta.us/wp-content/uploads/202
 4/03/Wednesday-Yoga.jpg
CATEGORIES:Wellness Events,Yoga Events
LOCATION:Kula Wellness Group Gwinnett\, Kula Wellness Group Gwinnett 5960 C
 rooked Creek Road Northwest #Suite 140J Norcross\, GA 30092 United States\
 ,  Norcross\, GA\, 30092\, GA\, United States
X-APPLE-STRUCTURED-LOCATION;VALUE=URI;X-ADDRESS=Kula Wellness Group Gwinnet
 t 5960 Crooked Creek Road Northwest #Suite 140J Norcross\, GA 30092 United
  States\,  Norcross\, GA\, 30092\, GA\, United States;X-APPLE-RADIUS=100;X
 -TITLE=Kula Wellness Group Gwinnett:geo:0,0
END:VEVENT
BEGIN:VTIMEZONE
TZID:America/New_York
X-LIC-LOCATION:America/New_York
BEGIN:DAYLIGHT
DTSTART:20240310T030000
TZOFFSETFROM:-0500
TZOFFSETTO:-0400
TZNAME:EDT
END:DAYLIGHT
END:VTIMEZONE
END:VCALENDAR