BEGIN:VCALENDAR
VERSION:2.0
PRODID:-//wp-events-plugin.com//7.2.3.1//EN
TZID:America/New_York
X-WR-TIMEZONE:America/New_York
BEGIN:VEVENT
UID:244@breatheatlanta.us
DTSTART;TZID=America/New_York:20240501T181500
DTEND;TZID=America/New_York:20240501T191500
DTSTAMP:20240416T144002Z
URL:https://breatheatlanta.us/events/kula-wellness-group-wednesday-yoga/
SUMMARY:Kula Wellness Group - Wednesday Yoga in Peachtree Corners
DESCRIPTION:\nUnwind and Rejuvenate: Explore Yoga with Peachtree Corners Yo
 ga Therapy\nCalling all yogis and aspiring yogis! Peachtree Corners Yoga T
 herapy invites you to embark on a transformative journey into the world of
  yoga.\nPersonalized and Intimate:\nLed by our dedicated yoga therapist\, 
 Amanda\, these Wednesday evening sessions offer a unique and personalized 
 experience. With a maximum of 6 individuals per class\, you'll receive foc
 used attention and tailored guidance to maximize your practice.\nHolistic 
 Approach to Well-Being:\nAmanda\, a seasoned practitioner\, meticulously c
 rafts each session to encompass the full spectrum of yoga's benefits. Expe
 rience a blend of:\n\n\n 	Essential Breathing Techniques: Master the art o
 f mindful breathing to calm your mind and revitalize your body.\n 	Nervous
  System Regulation: Learn practices to cultivate calmness and manage stres
 s levels effectively.\n 	Adaptable Yoga Postures: Explore a variety of yog
 a postures\, with modifications offered to accommodate all body types and 
 abilities.\n 	Yoga History and Philosophy: Gain a deeper understanding of 
 yoga's rich history and its multifaceted benefits.\n\nBeyond the Physical:
 \nOur sessions extend beyond the physical practice\, delving into the real
 ms of mindfulness and meditation. Amanda will guide you through transforma
 tive techniques to cultivate inner peace and present-moment awareness.\nA 
 Welcoming Space for All:\nWhether you're a seasoned yogi seeking to deepen
  your practice or a complete beginner curious to explore the world of yoga
 \, this welcoming environment is perfect for you.\nInvest in Your Well-bei
 ng:\nDon't miss this opportunity to reconnect with yourself on a deeper le
 vel. Reserve your spot today and join us on a journey towards holistic wel
 l-being. Peachtree Corners Yoga Therapy is your haven for relaxation\, rej
 uvenation\, and self-discovery.\n\n\n\nBUY TICKETS\n
ATTACH;FMTTYPE=image/jpeg:https://breatheatlanta.us/wp-content/uploads/202
 4/04/https___cdn.evbuc_.com_images_727717789_916324029443_1_original.jpg
CATEGORIES:Wellness Events
LOCATION:Kula Wellness Group Gwinnett\, 5960 Crooked Creek Road Northwest #
 Suite 140J Norcross\, GA 30092 United States\, GA \,  United States\, 3009
 2\, GA \, United States
X-APPLE-STRUCTURED-LOCATION;VALUE=URI;X-ADDRESS=5960 Crooked Creek Road Nor
 thwest #Suite 140J Norcross\, GA 30092 United States\, GA \,  United State
 s\, 30092\, GA \, United States;X-APPLE-RADIUS=100;X-TITLE=Kula Wellness G
 roup Gwinnett:geo:0,0
END:VEVENT
BEGIN:VTIMEZONE
TZID:America/New_York
X-LIC-LOCATION:America/New_York
BEGIN:DAYLIGHT
DTSTART:20240310T030000
TZOFFSETFROM:-0500
TZOFFSETTO:-0400
TZNAME:EDT
END:DAYLIGHT
END:VTIMEZONE
END:VCALENDAR