BEGIN:VCALENDAR
VERSION:2.0
PRODID:-//wp-events-plugin.com//7.2.3.1//EN
TZID:America/New_York
X-WR-TIMEZONE:America/New_York
BEGIN:VEVENT
UID:647@breatheatlanta.us
DTSTART;TZID=America/New_York:20241024T183000
DTEND;TZID=America/New_York:20241024T213000
DTSTAMP:20241018T081052Z
URL:https://breatheatlanta.us/events/lbc-revel-in-reuse-annual-fundraiser-
 2024/
SUMMARY:LBC Revel in Reuse Annual Fundraiser 2024
DESCRIPTION:On Thursday\, October 24\, 2024\, from 6:30 PM to 9:30 PM\, the
  Lifecycle Building Center (LBC) invites community members to its annual R
 evel in Reuse fundraiser. This unique zero-waste event aims to support LBC
 's mission of fostering resilient and equitable communities by promoting t
 he reuse of construction materials. The festivities will take place at the
  Atlanta Utility Works\, a historic facility in East Point that has been c
 reatively transformed into a brewery\, taproom\, and event space.\n\nThe e
 vening promises to be engaging as LBC showcases impactful stories that ill
 ustrate its mission in action. Attendees will learn about the Nonprofit Ma
 terial MATCH program and the growing coalition of partners known as ReBuil
 dATL. These initiatives highlight LBC’s commitment to enhancing communit
 y resilience through resourceful practices.\n\nFunds raised during the Rev
 el in Reuse event will directly support several key initiatives. Proceeds 
 will bolster the Nonprofit Material MATCH program\, which connects organiz
 ations in need with surplus materials. Additionally\, the funds will aid i
 n the relaunch of LBC’s Home Performance and Do-It-Yourself workshops\, 
 empowering community members to enhance their living spaces sustainably. T
 he event will also contribute to the ReBuildATL Coalition’s efforts\, wh
 ich include expanding workforce training\, developing affordable housing p
 rototypes\, and facilitating home repair initiatives.\n\nJoin LBC for a ni
 ght of celebration\, community building\, and impactful storytelling\, all
  while championing the vital practice of material reuse. This is an opport
 unity to engage with fellow advocates of sustainability and support meanin
 gful programs that make a difference in the community.\n\nGET TICKETS\n
ATTACH;FMTTYPE=image/jpeg:https://breatheatlanta.us/wp-content/uploads/202
 4/10/LBC-Revel-in-Reuse-Annual-Fundraiser-2024.jpg
CATEGORIES:Things To Do
LOCATION:Atlanta Utility Works\, 2903 RN Martin Street East Point\, Atlanta
 \, Georgia\, 30344\, GA\, United States
X-APPLE-STRUCTURED-LOCATION;VALUE=URI;X-ADDRESS=2903 RN Martin Street East 
 Point\, Atlanta\, Georgia\, 30344\, GA\, United States;X-APPLE-RADIUS=100;
 X-TITLE=Atlanta Utility Works:geo:0,0
END:VEVENT
BEGIN:VTIMEZONE
TZID:America/New_York
X-LIC-LOCATION:America/New_York
BEGIN:DAYLIGHT
DTSTART:20240310T030000
TZOFFSETFROM:-0500
TZOFFSETTO:-0400
TZNAME:EDT
END:DAYLIGHT
END:VTIMEZONE
END:VCALENDAR