BEGIN:VCALENDAR
VERSION:2.0
PRODID:-//wp-events-plugin.com//7.2.3.1//EN
TZID:America/New_York
X-WR-TIMEZONE:America/New_York
BEGIN:VEVENT
UID:73@breatheatlanta.us
DTSTART;TZID=America/New_York:20240330T103000
DTEND;TZID=America/New_York:20240330T133000
DTSTAMP:20240314T144946Z
URL:https://breatheatlanta.us/events/leadership-health-matters-2024/
SUMMARY:LEADERSHIP HEALTH MATTERS 2024
DESCRIPTION:\nElevate Your Leadership: A Focus on Health and Success in 202
 4\nCalling all leaders! Are you ready to take your impact to the next leve
 l? Join us for "Leadership Health Matters 2024\," a dynamic event designed
  to empower you to excel in both your professional and personal spheres.\n
 This immersive day\, held at 1607 Richard Allen Dr\, promises to be a cata
 lyst for growth. Imagine a day packed with thought-provoking sessions led 
 by industry experts\, each offering invaluable insights on leadership deve
 lopment. Engage in interactive workshops\, designed to hone your skills an
 d equip you with practical strategies for success.\nBut "Leadership Health
  Matters 2024" recognizes that true leadership starts from within. This ev
 ent goes beyond leadership tactics and delves into the critical connection
  between health and well-being. Gain valuable knowledge on prioritizing yo
 ur own health\, ensuring you have the energy and focus to be a truly effec
 tive leader.\nNetwork with like-minded individuals throughout the day. For
 ge connections\, share experiences\, and build a supportive community of l
 eaders who can inspire and challenge you on your journey.\nDon't miss this
  investment in yourself and your future. Register now for "Leadership Heal
 th Matters 2024" and unlock the potential for a thriving career\, a health
 ier lifestyle\, and a more fulfilling leadership experience.\n\n\n\n\nGET 
 TICKETS\n\n
ATTACH;FMTTYPE=image/jpeg:https://breatheatlanta.us/wp-content/uploads/202
 4/03/https___cdn.evbuc_.com_images_717326799_402220635641_1_original.jpeg
CATEGORIES:Wellness Events
LOCATION:1607 Richard Allen Dr\, 1607 Richard Allen Drive \, Decatur\, Geor
 gia\, 30032\, United States
X-APPLE-STRUCTURED-LOCATION;VALUE=URI;X-ADDRESS=1607 Richard Allen Drive \,
  Decatur\, Georgia\, 30032\, United States;X-APPLE-RADIUS=100;X-TITLE=1607
  Richard Allen Dr:geo:0,0
END:VEVENT
BEGIN:VTIMEZONE
TZID:America/New_York
X-LIC-LOCATION:America/New_York
BEGIN:DAYLIGHT
DTSTART:20240310T030000
TZOFFSETFROM:-0500
TZOFFSETTO:-0400
TZNAME:EDT
END:DAYLIGHT
END:VTIMEZONE
END:VCALENDAR