BEGIN:VCALENDAR
VERSION:2.0
PRODID:-//wp-events-plugin.com//7.2.3.1//EN
TZID:America/New_York
X-WR-TIMEZONE:America/New_York
BEGIN:VEVENT
UID:680@breatheatlanta.us
DTSTART;TZID=America/New_York:20241117T120000
DTEND;TZID=America/New_York:20241117T180000
DTSTAMP:20241024T051403Z
URL:https://breatheatlanta.us/events/let-it-go-for-2025-sip-tie-and-manife
 st/
SUMMARY:Let it Go for 2025!! Sip\, Tie\, and Manifest
DESCRIPTION:Step into the new year with clarity and purpose at the "Let It 
 Go for 2025: Sip\, Tie\, and Manifest" event\, a transformative experience
  designed to help you release\, connect\, and manifest your dreams for the
  year ahead. Beginning on November 17\, 2024\, at the exclusive Waist Bead
  Suite\, this in-person gathering invites participants to sip on delicious
  beverages\, tie up unfinished business\, and step into 2025 with a fresh 
 mindset.\n\nThis event is the perfect opportunity to align with like-minde
 d individuals\, set meaningful intentions\, and have an unforgettable time
 . It's all about letting go of the past and welcoming the future with posi
 tivity and empowerment. Don’t miss out on this unique chance to refresh 
 your energy and manifest your goals for 2025.\n\nEvent Highlights:\n\n 	"L
 et It Go" Plate-Breaking Ceremony: Release negativity and what no longer s
 erves you by writing down what you want to leave behind in 2024 on ceramic
  plates\, which we will break together. This powerful ritual helps shatter
  the old and create space for new\, positive affirmations.\n 	A Glass of W
 ine: Enjoy a drink while connecting with others in a relaxed\, supportive 
 atmosphere.\n 	One Waist Bead Strand: Receive a complimentary waist bead s
 trand (excluding luxury collections) to symbolize your personal journey an
 d new intentions for the year.\n 	A Jewelry Accessory: Get a unique piece 
 from the "Eccentric Ear Candy" collection to add a touch of flair to your 
 look.\n 	Laughter\, Hugs\, and Good Vibes: Embrace the fun and supportive 
 environment\, where laughter and connection abound.\n 	Grounding Affirmati
 on Closing: Conclude the evening with grounding affirmations to seal your 
 intentions and start 2025 on a positive\, focused note.\n\nThis event is n
 ot just about setting goals—it's about creating a community\, sharing po
 sitive energy\, and stepping into the new year with confidence and purpose
 . We can’t wait to see you there!\n\nGET TICKETS\n
CATEGORIES:Things To Do
LOCATION:So Phi Beauty Beads\, 4875 Floyd Road Southwest\, Suite 112 Mablet
 on\, Georgia\, 30126\, GA\, United States
X-APPLE-STRUCTURED-LOCATION;VALUE=URI;X-ADDRESS=4875 Floyd Road Southwest\,
  Suite 112 Mableton\, Georgia\, 30126\, GA\, United States;X-APPLE-RADIUS=
 100;X-TITLE=So Phi Beauty Beads:geo:0,0
END:VEVENT
BEGIN:VTIMEZONE
TZID:America/New_York
X-LIC-LOCATION:America/New_York
BEGIN:STANDARD
DTSTART:20241103T010000
TZOFFSETFROM:-0400
TZOFFSETTO:-0500
TZNAME:EST
END:STANDARD
END:VTIMEZONE
END:VCALENDAR