BEGIN:VCALENDAR
VERSION:2.0
PRODID:-//wp-events-plugin.com//7.2.3.1//EN
TZID:America/New_York
X-WR-TIMEZONE:America/New_York
BEGIN:VEVENT
UID:592@breatheatlanta.us
DTSTART;TZID=America/New_York:20241107T180000
DTEND;TZID=America/New_York:20241108T180000
DTSTAMP:20241010T153111Z
URL:https://breatheatlanta.us/events/level-up/
SUMMARY:Level Up!
DESCRIPTION:Level Up! is an exciting opportunity to embark on a journey of 
 self-discovery\, personal growth\, and transformation. This event invites 
 you to "date yourself" and join a vibrant community dedicated to embracing
  personal empowerment and exploring self-improvement. Led by Dani\, a Clin
 ical Hypnotherapist\, and Rose\, a Serial Entrepreneur\, the evening promi
 ses thought-provoking workshops\, engaging discussions\, and transformativ
 e exercises designed to break through limitations and help participants le
 vel up in all aspects of life.\n\nAttendees will have the chance to set th
 eir vision and attract their desires for the upcoming New Year\, all while
  enjoying delicious bites and drinks. It’s an opportunity to plant the s
 eeds for your goals and take meaningful steps toward achieving them.\n\nEv
 ent details:\n\n 	Date: To be determined (TBD)\n 	Location: TBD (If you’
 re interested in sponsoring and hosting the event\, reserve a sponsor tick
 et\, and we’ll contact you)\n\nThis event is just the beginning! With th
 e 12 Dates in 2024 series\, our community will meet on the 3rd Friday of e
 ach month. Each month will focus on a new topic of personal growth\, featu
 ring inspiring guest speakers\, tasty bites\, and hands-on workshops aimed
  at unlocking your full potential.\n\nWhether you choose an annual members
 hip (which guarantees participation in all monthly events) or a single eve
 nt ticket (for one-time access)\, you'll find yourself in a supportive env
 ironment designed for growth\, self-expression\, and meaningful connection
 . Join us and take the next step toward becoming the best version of yours
 elf!\n\nNote: Single event tickets only cover individual sessions\, while 
 annual membership includes access to all monthly events.\n\nGET TICKETS\n
ATTACH;FMTTYPE=image/jpeg:https://breatheatlanta.us/wp-content/uploads/202
 4/10/Level-Up.jpeg
CATEGORIES:Wellness Events
LOCATION:TBD ONCE TICKET IS PURCHASED\, TBD ONCE TICKET IS PURCHASED Norcro
 ss\, Atlanta\, Georgia\, 30092\, GA\, United States
X-APPLE-STRUCTURED-LOCATION;VALUE=URI;X-ADDRESS=TBD ONCE TICKET IS PURCHASE
 D Norcross\, Atlanta\, Georgia\, 30092\, GA\, United States;X-APPLE-RADIUS
 =100;X-TITLE=TBD ONCE TICKET IS PURCHASED:geo:0,0
END:VEVENT
BEGIN:VTIMEZONE
TZID:America/New_York
X-LIC-LOCATION:America/New_York
BEGIN:STANDARD
DTSTART:20241103T010000
TZOFFSETFROM:-0400
TZOFFSETTO:-0500
TZNAME:EST
END:STANDARD
END:VTIMEZONE
END:VCALENDAR