BEGIN:VCALENDAR
VERSION:2.0
PRODID:-//wp-events-plugin.com//7.2.3.1//EN
TZID:America/New_York
X-WR-TIMEZONE:America/New_York
BEGIN:VEVENT
UID:555@breatheatlanta.us
DTSTART;TZID=America/New_York:20241015T190000
DTEND;TZID=America/New_York:20241015T203000
DTSTAMP:20241001T144439Z
URL:https://breatheatlanta.us/events/life-force-activation-studio-atlanta/
SUMMARY:Life Force Activation @ Studio Atlanta
DESCRIPTION:Life Force Activation (LFA) is a transformative practice that i
 nvolves a direct energy transmission of raw kundalini\, designed to activa
 te an individual's personal energy system. During an LFA session\, partici
 pants often experience spontaneous movements\, which can lead to cathartic
  releases or profound insights. These spontaneous experiences are just som
 e of the potential effects of this powerful energy work\, as signs of kund
 alini awakening—ranging from subtle sensations to more intense manifesta
 tions—are frequently reported by participants.\n\nIn a typical session\,
  individuals lie down on yoga mats while soothing music plays in the backg
 round. While the outward experience may seem simple\, the inner journey ca
 n be deeply transformative.\nWhy Choose LFA?\nActivating kundalini energy 
 can significantly enhance well-being\, helping individuals reconnect with 
 their center. The raw life force transmitted during LFA sessions can be im
 mensely healing and replenishing\, facilitating a reconnection with the in
 finite source of spiritual power. Participants often report various benefi
 ts\, including increased awareness\, improved mental clarity\, reduced anx
 iety and pain\, release of stagnant energies and emotions\, and access to 
 higher vibrational frequencies.\nBenefits of LFA:\n\n 	Enhanced mental cla
 rity and focus\n 	Strengthened intuition\n 	Unlocking and releasing emotio
 nal trauma\n 	Increased physical energy\n 	Profound relaxation\n 	Decrease
 d stress levels\n 	Reduced anxiety\n 	Deeper connection to oneself and the
  surrounding world\n 	A natural high that promotes a sense of well-being\n
 \nDisclaimer:\nBy attending the session\, participants confirm they have r
 ead and agree to the following disclaimer: LFA may involve physical moveme
 nts and can promote stress reduction and improved mental well-being. As wi
 th any physical activity\, there is an inherent risk of injury\, including
  serious or disabling conditions. Participants should listen to their bodi
 es\; if any pain or discomfort arises\, they should stop and seek assistan
 ce from the instructor while maintaining smooth breathing.\n\nParticipants
  assume full responsibility for any damages incurred during the session. L
 FA is not a substitute for medical or psychological evaluation\, diagnosis
 \, or treatment. It is not recommended for individuals prone to mania\, de
 lusions\, or psychosis. By registering\, participants affirm their good he
 alth and confirm that a licensed physician has approved their participatio
 n. They will also inform the instructor of any medical conditions or physi
 cal limitations prior to the session. Pregnant individuals or those who ar
 e post-natal or post-surgical must have their physician's approval to part
 icipate. Participation in LFA is at one’s own risk\, and individuals agr
 ee to release any claims against LFA and its instructors.\n\nExperience th
 e transformative power of Life Force Activation at Studio Atlanta and emba
 rk on a journey of self-discovery\, healing\, and personal empowerment.\n\
 nGET TICKETS\n
ATTACH;FMTTYPE=image/jpeg:https://breatheatlanta.us/wp-content/uploads/202
 4/10/Life-Force-Activation-@-Studio-Atlanta.jpeg
CATEGORIES:Yoga Events
LOCATION:1886 N Decatur Rd\, 1886 North Decatur Road Atlanta\, Atlanta\, Un
 ited States\, 30307 \, GA\, United States
X-APPLE-STRUCTURED-LOCATION;VALUE=URI;X-ADDRESS=1886 North Decatur Road Atl
 anta\, Atlanta\, United States\, 30307 \, GA\, United States;X-APPLE-RADIU
 S=100;X-TITLE=1886 N Decatur Rd:geo:0,0
END:VEVENT
BEGIN:VTIMEZONE
TZID:America/New_York
X-LIC-LOCATION:America/New_York
BEGIN:DAYLIGHT
DTSTART:20240310T030000
TZOFFSETFROM:-0500
TZOFFSETTO:-0400
TZNAME:EDT
END:DAYLIGHT
END:VTIMEZONE
END:VCALENDAR