BEGIN:VCALENDAR
VERSION:2.0
PRODID:-//wp-events-plugin.com//7.2.3.1//EN
TZID:America/New_York
X-WR-TIMEZONE:America/New_York
BEGIN:VEVENT
UID:342@breatheatlanta.us
DTSTART;TZID=America/New_York:20240706T120000
DTEND;TZID=America/New_York:20240706T180000
DTSTAMP:20240627T074135Z
URL:https://breatheatlanta.us/events/lift-up-atlantas-2024-community-festi
 val/
SUMMARY:Lift Up Atlanta's 2024 Community Festival
DESCRIPTION:\n\n\n\n\n\n\n\n\n\n\n\n\n\nExperience a day of family fun at L
 ift Up Atlanta's 2024 Community Festival! This vibrant event promises an a
 rray of activities and entertainment for all ages\, making it the perfect 
 outing for the entire family.\n\nEvent Highlights:\n\n 	Live Entertainment
 : Enjoy captivating performances throughout the day\, ensuring non-stop en
 tertainment and excitement.\n 	Delicious Food: Savor a variety of tasty tr
 eats and mouth-watering dishes from numerous food vendors\, offering somet
 hing for every palate.\n 	Vendor Market: Explore a diverse range of vendor
 s showcasing unique products\, crafts\, and services.\n 	Kids' Fun Zone: K
 eep the little ones entertained with a dedicated kids' zone filled with fu
 n games\, activities\, and attractions.\n 	Live Music: Groove to the beats
  of DJ Skyrocker\, who will keep the energy high with an eclectic mix of m
 usic.\n\nThe festival will be hosted by the charismatic LadyVee Da Poet\, 
 adding an extra layer of charm and enthusiasm to the event. Don't miss out
  on this opportunity to celebrate community spirit\, enjoy fantastic enter
 tainment\, and create lasting memories with your family and friends.\n\nJo
 in Us:\n\nMark your calendars and join us at Lift Up Atlanta's 2024 Commun
 ity Festival for a day filled with joy\, laughter\, and community connecti
 on. See you there!\n\nGET TICKETS\n\n\n\n\n\n\n
CATEGORIES:Arts &amp; Performances,Food &amp; Drink Events,Things To Do
LOCATION:Gwinnett County Fairgrounds\, 2405 Sugarloaf Parkway Lawrenceville
 \, GA 30045 United States\, GA\, United States\,  30045 \, GA\, United Sta
 tes
X-APPLE-STRUCTURED-LOCATION;VALUE=URI;X-ADDRESS=2405 Sugarloaf Parkway Lawr
 enceville\, GA 30045 United States\, GA\, United States\,  30045 \, GA\, U
 nited States;X-APPLE-RADIUS=100;X-TITLE=Gwinnett County Fairgrounds:geo:0,
 0
END:VEVENT
BEGIN:VTIMEZONE
TZID:America/New_York
X-LIC-LOCATION:America/New_York
BEGIN:DAYLIGHT
DTSTART:20240310T030000
TZOFFSETFROM:-0500
TZOFFSETTO:-0400
TZNAME:EDT
END:DAYLIGHT
END:VTIMEZONE
END:VCALENDAR