BEGIN:VCALENDAR
VERSION:2.0
PRODID:-//wp-events-plugin.com//7.2.3.1//EN
TZID:America/New_York
X-WR-TIMEZONE:America/New_York
BEGIN:VEVENT
UID:327@breatheatlanta.us
DTSTART;TZID=America/New_York:20240715T090000
DTEND;TZID=America/New_York:20240717T150000
DTSTAMP:20240909T093730Z
URL:https://breatheatlanta.us/events/lilburn-camp-tour/
SUMMARY:Lilburn Camp Tour
DESCRIPTION:Join the Lilburn Camp Tour\, an immersive basketball camp desig
 ned for players of all skill levels. Led by Flyght Academy and former prof
 essional player Chris Wright\, this camp promises top-tier training and de
 velopment.\n\nEvent Details:\n\n 	Skill Levels: Open to participants of al
 l skill levels\, from beginners to advanced players.\n 	Leadership: The ca
 mp is led by Flyght Academy\, featuring expert coaching from former profes
 sional basketball player Chris Wright.\n\nWhat to Expect:\n\n 	Comprehensi
 ve Training: Engage in a range of drills and exercises aimed at improving 
 your basketball skills\, including shooting\, dribbling\, defense\, and te
 amwork.\n 	Expert Guidance: Benefit from the experience and knowledge of C
 hris Wright\, who brings professional-level insights and techniques to the
  camp.\n 	Supportive Environment: Train in a supportive and motivating atm
 osphere that encourages growth and development for players of all abilitie
 s.\n\nWhy Attend:\n\n 	Skill Enhancement: Improve your basketball skills u
 nder the guidance of seasoned professionals.\n 	Professional Insights: Lea
 rn from a former pro who understands the nuances of the game and can provi
 de valuable tips and strategies.\n 	Community Building: Connect with fello
 w basketball enthusiasts and build lasting friendships in a collaborative 
 environment.\n\nJoin Us:\n\nDon’t miss the chance to elevate your game a
 t the Lilburn Camp Tour. Whether you're a novice or an experienced player\
 , this camp offers the perfect opportunity to enhance your skills and lear
 n from the best. Secure your spot today and get ready for an unforgettable
  basketball experience!\n\nGET TICKETS\n
ATTACH;FMTTYPE=image/jpeg:https://breatheatlanta.us/wp-content/uploads/202
 4/06/Lilburn-Camp-Tour.jpg
CATEGORIES:Sports &amp; Fitness Events
LOCATION:Lilburn Middle School\, 4994 Lawrenceville Highway Lilburn\, Atlan
 ta\, Georgia\, 30347\, GA \, United States
X-APPLE-STRUCTURED-LOCATION;VALUE=URI;X-ADDRESS=4994 Lawrenceville Highway 
 Lilburn\, Atlanta\, Georgia\, 30347\, GA \, United States;X-APPLE-RADIUS=1
 00;X-TITLE=Lilburn Middle School:geo:0,0
END:VEVENT
BEGIN:VTIMEZONE
TZID:America/New_York
X-LIC-LOCATION:America/New_York
BEGIN:DAYLIGHT
DTSTART:20240310T030000
TZOFFSETFROM:-0500
TZOFFSETTO:-0400
TZNAME:EDT
END:DAYLIGHT
END:VTIMEZONE
END:VCALENDAR