BEGIN:VCALENDAR
VERSION:2.0
PRODID:-//wp-events-plugin.com//7.2.3.1//EN
TZID:America/New_York
X-WR-TIMEZONE:America/New_York
BEGIN:VEVENT
UID:499@breatheatlanta.us
DTSTART;TZID=America/New_York:20241019T120000
DTEND;TZID=America/New_York:20241020T180000
DTSTAMP:20240928T055336Z
URL:https://breatheatlanta.us/events/little-5-points-halloween-festival-pa
 rade/
SUMMARY:Little 5 Points Halloween Festival & Parade
DESCRIPTION:Since the 1970s\, the Little 5 Points Halloween Festival and Pa
 rade has been the ultimate Halloween celebration in the South\, drawing vi
 sitors from far and wide to experience its eclectic mix of spooky fun\, vi
 brant performances\, and unique community spirit. Known as the #1 Hallowee
 n festival in the region\, this iconic event returns with a two-day extrav
 aganza filled with thrilling activities and festive entertainment.\n\nThis
  year’s celebration promises to be bigger and better than ever\, featuri
 ng the much-anticipated return of the famed Halloween Parade\, scheduled f
 or 2 PM on Sunday. The parade will fill the streets with an unforgettable 
 procession of hauntingly creative costumes\, larger-than-life floats\, and
  the unmistakable energy that makes Little 5 Points a hub for artistic exp
 ression.\n\nThe festival will also include the second annual L5P Monster H
 unt\, a wildly popular scavenger hunt that invites participants to search 
 for hidden creatures scattered throughout the neighborhood. The hunt combi
 nes Halloween fun with local exploration\, adding a layer of interactive a
 dventure for festival-goers of all ages.\n\nThroughout the weekend\, visit
 ors can expect a dazzling lineup of attractions\, including a jaw-dropping
  freak show that will amaze and entertain\, pop-up booths showcasing the w
 orks of some of Atlanta’s best artists\, and live music performances tha
 t will keep the party atmosphere going strong. Food trucks offering a vari
 ety of delicious eats will be on-site to satisfy every craving\, ensuring 
 there’s something for everyone at this festive gathering.\n\nFor those l
 ooking for more details on the event schedule and activities\, the officia
 l festival website at l5phalloween.com provides all the information needed
  to plan the perfect Halloween weekend.\n\nThe Little 5 Points Halloween F
 estival &amp\; Parade offers a truly unique experience\, blending communit
 y\, creativity\, and all things Halloween into one unforgettable event tha
 t captures the spirit of Atlanta like no other.\n\nGET TICKETS\n
ATTACH;FMTTYPE=image/jpeg:https://breatheatlanta.us/wp-content/uploads/202
 4/09/Little-5-Points-Halloween.webp
CATEGORIES:Things To Do
LOCATION:Little 5 Points\, 394 Moreland Ave NE Atlanta\, Atlanta\, Georgia\
 , 30307\, GA\, United States
X-APPLE-STRUCTURED-LOCATION;VALUE=URI;X-ADDRESS=394 Moreland Ave NE Atlanta
 \, Atlanta\, Georgia\, 30307\, GA\, United States;X-APPLE-RADIUS=100;X-TIT
 LE=Little 5 Points:geo:0,0
END:VEVENT
BEGIN:VTIMEZONE
TZID:America/New_York
X-LIC-LOCATION:America/New_York
BEGIN:DAYLIGHT
DTSTART:20240310T030000
TZOFFSETFROM:-0500
TZOFFSETTO:-0400
TZNAME:EDT
END:DAYLIGHT
END:VTIMEZONE
END:VCALENDAR