BEGIN:VCALENDAR
VERSION:2.0
PRODID:-//wp-events-plugin.com//7.2.3.1//EN
TZID:America/New_York
X-WR-TIMEZONE:America/New_York
BEGIN:VEVENT
UID:594@breatheatlanta.us
DTSTART;TZID=America/New_York;VALUE=DATE:20241025
DTEND;TZID=America/New_York;VALUE=DATE:20241026
DTSTAMP:20241010T154758Z
URL:https://breatheatlanta.us/events/little-horrors-at-the-camp/
SUMMARY:Little Horrors at The Camp
DESCRIPTION:Little Horrors at The Camp is an unforgettable evening featurin
 g a special screening of Little Shop of Horrors\, elevated by a live perfo
 rmance from the Edgewood String Quartet. From 7 PM to 9 PM\, experience th
 e movie like never before\, as the quartet's enchanting score enhances key
  emotional moments and adds a unique\, live soundscape that brings the sto
 ry to life.\n\nEnjoy a variety of seating options:\n\n 	Free General Admis
 sion: Bring a lawn chair or blanket and relax on the lawn while the quarte
 t plays live during the movie's key scenes\, blending sound effects for an
  immersive experience.\n 	VIP Individual Seating ($25): Enjoy front-row se
 ats with a glass of wine and a charcuterie cup\, provided by Taste Wine Ba
 r &amp\; Market. The curated cup includes Sopressata\, aged Parmesan\, Cor
 nichons\, and seasonal fruits for a delicious treat.\n 	VIP Tent Suites ($
 125): Upgrade to a private 10x10 tent for up to four guests. You’ll rece
 ive two bottles of wine—Pinot Noir and Cabernet Sauvignon—along with a
  charcuterie board featuring artisanal meats like Sopressata\, Coppa\, and
  Mortadella\, paired with Parmesan\, Feta Peach Marmalade\, Cornichons\, a
 rtisanal crackers\, and dates.\n\nAdditionally\, guests can enjoy complime
 ntary mocktails from La Dolce Vita Beverage Co while supplies last\, makin
 g it a perfect night of music\, film\, and fine food.\n\nJoin us for this 
 magical fusion of film and live music at The Camp\, and make it a night to
  remember with exclusive VIP options or enjoy the movie under the stars wi
 th general admission!\n\nGET TICKETS\n
ATTACH;FMTTYPE=image/jpeg:https://breatheatlanta.us/wp-content/uploads/202
 4/10/Little-Horrors-at-The-Camp.jpeg
CATEGORIES:Things To Do
LOCATION:The Works -- Upper Westside Atlanta\, 1295 Chattahoochee Avenue No
 rthwest\, Atlanta\, Georgia\, 30318\, GA\, United States
X-APPLE-STRUCTURED-LOCATION;VALUE=URI;X-ADDRESS=1295 Chattahoochee Avenue N
 orthwest\, Atlanta\, Georgia\, 30318\, GA\, United States;X-APPLE-RADIUS=1
 00;X-TITLE=The Works -- Upper Westside Atlanta:geo:0,0
END:VEVENT
BEGIN:VTIMEZONE
TZID:America/New_York
X-LIC-LOCATION:America/New_York
BEGIN:DAYLIGHT
DTSTART:20240310T030000
TZOFFSETFROM:-0500
TZOFFSETTO:-0400
TZNAME:EDT
END:DAYLIGHT
END:VTIMEZONE
END:VCALENDAR