BEGIN:VCALENDAR
VERSION:2.0
PRODID:-//wp-events-plugin.com//7.2.3.1//EN
TZID:America/New_York
X-WR-TIMEZONE:America/New_York
BEGIN:VEVENT
UID:430@breatheatlanta.us
DTSTART;TZID=America/New_York:20240925T080000
DTEND;TZID=America/New_York:20240925T180000
DTSTAMP:20240903T140242Z
URL:https://breatheatlanta.us/events/lululemon-play-well-peachtree-city/
SUMMARY:lululemon Play Well - Peachtree City
DESCRIPTION:Join us on September 25th for the lululemon Play Well Golf Tour
 nament\, taking place at the scenic Braelinn Golf Course in Peachtree City
 . This exciting event is more than just a golf tournament\; it’s an oppo
 rtunity to spotlight and support local small businesses and nonprofits ded
 icated to community enrichment.\n\nEvent Details:\n\n 	Registration Check-
 In: Begins at 8:00 AM.\n 	Shotgun Tee-Off: Starts at 10:00 AM.\n 	Breakfas
 t: Enjoy a delicious breakfast provided by Chick-fil-A.\n 	Lunch: Served b
 y Braelinn Golf Course.\n 	Beverages: A beverage cart will be available on
  the course to keep you refreshed.\n 	Event Conclusion: The tournament is 
 expected to end around 3:00 PM\, with the event officially wrapping up at 
 6:00 PM.\n\nPost-Tournament Social: Head over to the Braelinn pool area to
  celebrate the day’s achievements. Highlights include:\n\n 	A recap of t
 he total fundraising dollars raised.\n 	Awards presentation for 1st\, 2nd\
 , and 3rd place finishers.\n 	Exciting raffle draws.\n\nAdditional Informa
 tion: This is a paid event. After RSVP-ing\, participants will receive fur
 ther instructions on how to officially secure their spot in the tournament
 .\n\nCome for the golf\, stay for the community spirit\, and enjoy a day d
 edicated to supporting and celebrating local enterprises and organizations
 !\n\nGET TICKETS\n
ATTACH;FMTTYPE=image/jpeg:https://breatheatlanta.us/wp-content/uploads/202
 4/09/lululemon-Play-Well-Peachtree-City.jpg
CATEGORIES:Mindfulness Events,Things To Do,Wellness Events
LOCATION:Braelinn Golf Club\, 500 Clubview Drive Peachtree City\, GA 30269 
 Show map\, Atlanta\, Georgia\, 30269\, GA\, United States
X-APPLE-STRUCTURED-LOCATION;VALUE=URI;X-ADDRESS=500 Clubview Drive Peachtre
 e City\, GA 30269 Show map\, Atlanta\, Georgia\, 30269\, GA\, United State
 s;X-APPLE-RADIUS=100;X-TITLE=Braelinn Golf Club:geo:0,0
END:VEVENT
BEGIN:VTIMEZONE
TZID:America/New_York
X-LIC-LOCATION:America/New_York
BEGIN:DAYLIGHT
DTSTART:20240310T030000
TZOFFSETFROM:-0500
TZOFFSETTO:-0400
TZNAME:EDT
END:DAYLIGHT
END:VTIMEZONE
END:VCALENDAR