BEGIN:VCALENDAR
VERSION:2.0
PRODID:-//wp-events-plugin.com//7.2.3.1//EN
TZID:America/New_York
X-WR-TIMEZONE:America/New_York
BEGIN:VEVENT
UID:427@breatheatlanta.us
DTSTART;TZID=America/New_York:20240928T090000
DTEND;TZID=America/New_York:20240928T100000
DTSTAMP:20240903T115609Z
URL:https://breatheatlanta.us/events/lululemon-saturday-sweat-series/
SUMMARY:lululemon Saturday Sweat Series
DESCRIPTION:Kickstart your Saturdays with a dynamic workout as part of the 
 lululemon Saturday Sweat Series at Avalon in Alpharetta. This weekly event
  invites you to join a vibrant community for an invigorating session desig
 ned to leave you feeling refreshed and energized.\n\nGather at Palmer Plaz
 a and be part of the Avalon: lululemon Saturday Sweat Series\, where commu
 nity and wellness come together in perfect harmony. As a key feature of th
 is year's expansive Summer Sweat Series\, the lululemon team at Avalon is 
 dedicated to bringing consistent\, accessible\, and inclusive fitness expe
 riences to the Alpharetta area.\n\nThis series offers a wide variety of mo
 vement disciplines\, led by a diverse group of expert instructors\, ensuri
 ng there's something for everyone. Whether you're a seasoned athlete or ju
 st beginning your fitness journey\, these sessions are designed to connect
  and uplift the community through the power of movement. Join us and make 
 your Saturdays stronger with lululemon!\n\nGET TICKETS\n
ATTACH;FMTTYPE=image/jpeg:https://breatheatlanta.us/wp-content/uploads/202
 4/09/lululemon-Saturday-Sweat-Series.jpg
CATEGORIES:Mindfulness Events,Things To Do,Wellness Events
LOCATION:Avalon\, 2200 Avalon Boulevard Alpharetta\, Atlanta\, Georgia\, 30
 009\, GA\, United States
X-APPLE-STRUCTURED-LOCATION;VALUE=URI;X-ADDRESS=2200 Avalon Boulevard Alpha
 retta\, Atlanta\, Georgia\, 30009\, GA\, United States;X-APPLE-RADIUS=100;
 X-TITLE=Avalon:geo:0,0
END:VEVENT
BEGIN:VTIMEZONE
TZID:America/New_York
X-LIC-LOCATION:America/New_York
BEGIN:DAYLIGHT
DTSTART:20240310T030000
TZOFFSETFROM:-0500
TZOFFSETTO:-0400
TZNAME:EDT
END:DAYLIGHT
END:VTIMEZONE
END:VCALENDAR