BEGIN:VCALENDAR
VERSION:2.0
PRODID:-//wp-events-plugin.com//7.2.3.1//EN
TZID:America/New_York
X-WR-TIMEZONE:America/New_York
BEGIN:VEVENT
UID:357@breatheatlanta.us
DTSTART;TZID=America/New_York:20240801T090000
DTEND;TZID=America/New_York:20240801T110000
DTSTAMP:20240909T094122Z
URL:https://breatheatlanta.us/events/lululemon-yoga-event-at-chateau-elan/
SUMMARY:Lululemon Yoga Event at Chateau Elan
DESCRIPTION:Join us at Chateau Elan Winery and Resort for a special Wellnes
 s Month yoga event in partnership with Lululemon. This exclusive event\, l
 ed by Lululemon ambassador\, The Atlanta Yogi\, offers a perfect retreat t
 o enhance your well-being.\n\nEvent Highlights:\n\n 	Outdoor Yoga Class: E
 njoy a 60-minute Vinyasa Yoga session on Chateau Elan’s brand-new Jardin
  Terrace\, designed to be accessible for all ages and experience levels. T
 he class will focus on breath-to-movement sequences to help you rejuvenate
  and relax.\n 	Post-Yoga Spa Treatment: After the yoga session\, treat you
 rself to a 15-minute mini treatment of your choice from The Spa at Chateau
  Elan.\n 	Exclusive Takeaways: Each ticket includes a bottled water and a 
 Lululemon yoga mat (valued at $88) to take home\, ensuring you can continu
 e your wellness journey beyond the event.\n\nRegistration:\n\n 	Ticket Pri
 ce: $75 per person\n 	Limited Availability: Tickets for this event are ext
 remely limited. Make sure to secure your spot early!\n\n&nbsp\;\n\nGET TIC
 KETS\n\n&nbsp\;\n\n[gallery columns="2" size="medium" ids="5789\,5793\,579
 1\,5792\,5790"]\n\n&nbsp\;
ATTACH;FMTTYPE=image/jpeg:https://breatheatlanta.us/wp-content/uploads/202
 4/07/yoga.jpg
CATEGORIES:Featured Events,Yoga Events
LOCATION:Chateau Elan\, 100 Rue Charlemagne Dr Braselton\, Atlanta\, Georgi
 a\, 30517\, United States
X-APPLE-STRUCTURED-LOCATION;VALUE=URI;X-ADDRESS=100 Rue Charlemagne Dr Bras
 elton\, Atlanta\, Georgia\, 30517\, United States;X-APPLE-RADIUS=100;X-TIT
 LE=Chateau Elan:geo:0,0
END:VEVENT
BEGIN:VTIMEZONE
TZID:America/New_York
X-LIC-LOCATION:America/New_York
BEGIN:DAYLIGHT
DTSTART:20240310T030000
TZOFFSETFROM:-0500
TZOFFSETTO:-0400
TZNAME:EDT
END:DAYLIGHT
END:VTIMEZONE
END:VCALENDAR