BEGIN:VCALENDAR
VERSION:2.0
PRODID:-//wp-events-plugin.com//7.2.3.1//EN
TZID:America/New_York
X-WR-TIMEZONE:America/New_York
BEGIN:VEVENT
UID:265@breatheatlanta.us
DTSTART;TZID=America/New_York:20240520T093000
DTEND;TZID=America/New_York:20240520T103000
DTSTAMP:20240507T203315Z
URL:https://breatheatlanta.us/events/lumina-yoga-every-monday/
SUMMARY:Lumina Yoga: Every Monday 9:30A
DESCRIPTION:\nUnwind &amp\; Unwind: Start Your Week Strong with Monday Morn
 ing Yoga!\nStretch into a Stress-Free Week with Our Invigorating Yoga Clas
 s!\nKickstart your week on a positive note with our energizing Monday morn
 ing yoga class at 9:30 AM! This class is the perfect way to unwind from th
 e weekend\, reset your mind and body\, and step into the new week feeling 
 centered and empowered.\nFresh Flows for Every Body:\n\n\n 	Diverse and Dy
 namic: Every Monday brings a new and exciting yoga sequence. Our experienc
 ed instructor will guide you through a variety of postures designed to cha
 llenge and inspire you\, regardless of your experience level.\n 	Building 
 Strength &amp\; Balance: Our classes emphasize building foundational stren
 gth and improving balance. Through a combination of postures and flows\, y
 ou'll develop a strong and stable practice that translates into everyday l
 ife.\n 	Cultivating Groundedness: More than just physical postures\, our y
 oga sessions focus on cultivating a sense of inner peace and grounding. Le
 ave your worries behind and connect with your breath and body as you move 
 with intention.\n\nA Welcoming Community:\n\n\n 	All Levels Welcome: Wheth
 er you're a seasoned yogi or just starting out\, this class is for you! Ou
 r inclusive environment fosters a sense of community and provides modifica
 tions to accommodate all abilities.\n 	Start Your Week the Right Way: Set 
 the tone for a positive and productive week by prioritizing your well-bein
 g. Yoga offers a mindful and energizing way to begin your day\, leaving yo
 u feeling refreshed and focused.\n 	Connect with Yourself &amp\; Others: T
 ake this opportunity to connect with your inner self through yoga practice
 . Additionally\, you'll have the chance to connect with fellow yoga enthus
 iasts and build a supportive community.\n\nMore than Just a Class:\n\n\n 	
 Invest in Yourself: This Monday morning yoga class is an investment in you
 r physical and mental well-being. Regular practice can lead to increased f
 lexibility\, improved strength\, reduced stress\, and a clearer mind.\n 	U
 nwind &amp\; Recharge: Let go of the stresses of the previous week and pre
 pare for the new one with renewed energy and a sense of calm.\n 	Find Your
  Flow: This class is more than just exercise\; it's a journey towards self
 -discovery. Through yoga\, you can learn to connect with your body\, quiet
  your mind\, and find your flow.\n\nJoin us on Monday mornings and discove
 r the transformative power of yoga! Namaste!\nHashtags:\n#MondayMorningYog
 a #YogaForAll #StrengthBalanceGrounding #WellbeingCommunity #StartYourWeek
 Right #FindYourFlow\n\n\n\nBUY TICKETS\n
ATTACH;FMTTYPE=image/jpeg:https://breatheatlanta.us/wp-content/uploads/202
 4/05/https___cdn.evbuc_.com_images_750885649_1975294373003_1_original.jpg
CATEGORIES:Wellness Events
LOCATION:Lumina Lofts\, 1930 Powder Springs Road Southwest #unit 1200\, Mar
 ietta\, Georgia\, 30064\, United States
X-APPLE-STRUCTURED-LOCATION;VALUE=URI;X-ADDRESS=1930 Powder Springs Road So
 uthwest #unit 1200\, Marietta\, Georgia\, 30064\, United States;X-APPLE-RA
 DIUS=100;X-TITLE=Lumina Lofts:geo:0,0
END:VEVENT
BEGIN:VTIMEZONE
TZID:America/New_York
X-LIC-LOCATION:America/New_York
BEGIN:DAYLIGHT
DTSTART:20240310T030000
TZOFFSETFROM:-0500
TZOFFSETTO:-0400
TZNAME:EDT
END:DAYLIGHT
END:VTIMEZONE
END:VCALENDAR