BEGIN:VCALENDAR
VERSION:2.0
PRODID:-//wp-events-plugin.com//7.2.3.1//EN
TZID:America/New_York
X-WR-TIMEZONE:America/New_York
BEGIN:VEVENT
UID:249@breatheatlanta.us
DTSTART;TZID=America/New_York:20240505T113000
DTEND;TZID=America/New_York:20240505T123000
DTSTAMP:20240417T152804Z
URL:https://breatheatlanta.us/events/lumina-yoga-every-sunday/
SUMMARY:Lumina Yoga: Every Sunday 11:30A
DESCRIPTION:\nFind Strength &amp\; Inner Peace: Weekly All-Levels Yoga Flow
 !\nCalling all yogis seeking a powerful way to start your week! Join us ev
 ery Sunday at 11:30 am for a dynamic vinyasa yoga class designed to invigo
 rate your body and mind.\nEmbrace a New Challenge Each Week:\nOur experien
 ced instructors will guide you through a unique sequence every Sunday\, fo
 cusing on building strength\, balance\, and a deep sense of grounding. Thi
 s progressive approach keeps your practice fresh and engaging\, allowing y
 ou to explore new postures and deepen your connection to your practice.\nA
  Practice for Everyone:\nThis welcoming class is perfect for yogis of all 
 levels – whether you're a seasoned practitioner or just starting out. Ou
 r instructors create a supportive and inclusive environment where you can 
 feel comfortable exploring your potential.\nBenefits Beyond the Mat:\n\n\n
  	Increased Strength &amp\; Flexibility: Build a strong and adaptable body
  through targeted postures.\n 	Improved Balance &amp\; Coordination: Devel
 op greater stability and confidence on and off the mat.\n 	Enhanced Focus 
 &amp\; Clarity: Cultivate a sense of inner peace and mindfulness.\n 	Reduc
 ed Stress &amp\; Anxiety: Unwind and release tension with a powerful physi
 cal practice.\n\nStart Your Week Right:\nUnroll your mat and begin your we
 ek feeling energized and centered. This Sunday yoga class is the perfect w
 ay to set the tone for a positive and productive week.\nJoin Our Community
 :\nFind joy in the practice alongside a supportive community of yogis. Con
 nect with like-minded individuals who share your passion for wellness and 
 self-discovery.\nReady to Begin?\nReserve your spot today for our Sunday y
 oga flow class! Experience the transformative power of yoga and discover a
  renewed sense of strength and well-being.\n\n\n\nBUY TICKETS\n
ATTACH;FMTTYPE=image/jpeg:https://breatheatlanta.us/wp-content/uploads/202
 4/04/https___cdn.evbuc_.com_images_732816949_1975294373003_1_original.jpg
CATEGORIES:Wellness Events
LOCATION:Lumina Lofts\, 1930 Powder Springs Road Southwest #unit 1200\, Mar
 ietta\, Georgia\, 30064\, United States
X-APPLE-STRUCTURED-LOCATION;VALUE=URI;X-ADDRESS=1930 Powder Springs Road So
 uthwest #unit 1200\, Marietta\, Georgia\, 30064\, United States;X-APPLE-RA
 DIUS=100;X-TITLE=Lumina Lofts:geo:0,0
END:VEVENT
BEGIN:VTIMEZONE
TZID:America/New_York
X-LIC-LOCATION:America/New_York
BEGIN:DAYLIGHT
DTSTART:20240310T030000
TZOFFSETFROM:-0500
TZOFFSETTO:-0400
TZNAME:EDT
END:DAYLIGHT
END:VTIMEZONE
END:VCALENDAR