BEGIN:VCALENDAR
VERSION:2.0
PRODID:-//wp-events-plugin.com//7.2.3.1//EN
TZID:America/New_York
X-WR-TIMEZONE:America/New_York
BEGIN:VEVENT
UID:479@breatheatlanta.us
DTSTART;TZID=America/New_York:20241026T100000
DTEND;TZID=America/New_York:20241026T130000
DTSTAMP:20240925T162145Z
URL:https://breatheatlanta.us/events/maggianos-little-italy-kids-cooking-c
 lass-buckhead-pumpkin-carving/
SUMMARY:Maggiano's Little Italy Kids Cooking Class- Buckhead Pumpkin Carvin
 g
DESCRIPTION:Maggiano's Little Italy\, located on Peachtree Road in Atlanta\
 , GA\, invites children to participate in a delightful pumpkin carving and
  ice cream making class. This engaging event allows young aspiring chefs t
 o unleash their creativity while learning valuable culinary skills.\n\nDur
 ing the ice cream making class\, kids will have the chance to get hands-on
  experience\, crafting their own delicious frozen treats. It's an exciting
  opportunity for them to explore the kitchen\, experiment with flavors\, a
 nd create sweet memories.\n\nThe event is designed to be both fun and educ
 ational\, making it ideal for parents seeking unique activities for their 
 children. Participants will not only learn to make ice cream but also enjo
 y a delicious lunch buffet featuring a variety of dishes.\n\nTicket Pricin
 g:\n\n 	Kids' Ticket: Includes the lunch buffet and the class for $30.00\n
  	Adult Ticket: Includes the lunch buffet for $20.00\n\nLunch Buffet Offer
 ings:\n\n 	Caesar salad\n 	Ziti with marinara sauce\n 	Four cheese ravioli
  with pesto Alfredo sauce\n 	Chicken Parmesan\n 	Plain buttered pasta\n 	L
 emon cookies and assorted cookies\n\nDon't miss this fantastic opportunity
  for your children to have a blast while honing their culinary skills and 
 enjoying tasty homemade treats!\n\nGET TICKETS\n
ATTACH;FMTTYPE=image/jpeg:https://breatheatlanta.us/wp-content/uploads/202
 4/09/Maggianos-Little-Italy-Kids-Cooking-Class-Buckhead-Pumpkin-Carving.jp
 g
CATEGORIES:Food &amp; Drink Events
LOCATION:Maggiano's Little Italy\, 3368 Peachtree Road\, Atlanta\, Georgia\
 , 30326\, GA\, United States
X-APPLE-STRUCTURED-LOCATION;VALUE=URI;X-ADDRESS=3368 Peachtree Road\, Atlan
 ta\, Georgia\, 30326\, GA\, United States;X-APPLE-RADIUS=100;X-TITLE=Maggi
 ano's Little Italy:geo:0,0
END:VEVENT
BEGIN:VTIMEZONE
TZID:America/New_York
X-LIC-LOCATION:America/New_York
BEGIN:DAYLIGHT
DTSTART:20240310T030000
TZOFFSETFROM:-0500
TZOFFSETTO:-0400
TZNAME:EDT
END:DAYLIGHT
END:VTIMEZONE
END:VCALENDAR