BEGIN:VCALENDAR
VERSION:2.0
PRODID:-//wp-events-plugin.com//7.2.3.1//EN
TZID:America/New_York
X-WR-TIMEZONE:America/New_York
BEGIN:VEVENT
UID:755@breatheatlanta.us
DTSTART;TZID=America/New_York:20250211T180000
DTEND;TZID=America/New_York:20250211T200000
DTSTAMP:20250201T122711Z
URL:https://breatheatlanta.us/events/magical-moonlight-full-moon-releasing
 -circle/
SUMMARY:Magical Moonlight Full Moon Releasing Circle
DESCRIPTION:Step into a transformative evening of connection\, reflection\,
  and release at the Magical Moonlight Full Moon Releasing Circle hosted at
  The Hoot Spot Reiki Therapy Duluth. This in-person event invites particip
 ants to come together under the powerful energy of the full moon\, a time 
 known for its ability to illuminate the path to growth\, healing\, and per
 sonal transformation.\nA Sacred Space for Releasing &amp\; Manifesting\nTh
 e Full Moon Releasing Circle offers the perfect opportunity to:\n🌙 Rele
 ase what no longer serves your highest good\n🌙 Reflect on your journey 
 and the lessons learned\n🌙 Set clear intentions for your future growth 
 and desires\n\nJoin a supportive community of like-minded individuals who 
 are all committed to shedding old patterns and embracing the energy of ren
 ewal. Through collective intention-setting and reflection\, participants w
 ill have the opportunity to harness the moon’s powerful energy to manife
 st their deepest desires and pave the way for a brighter tomorrow.\nWhat t
 o Expect\n\n 	Guided Reflection &amp\; Release: Engage in a peaceful\, med
 itative journey that encourages deep emotional and spiritual release.\n 	I
 ntention-Setting Rituals: Write\, share\, and visualize your goals and asp
 irations for the coming weeks and months.\n 	A Supportive &amp\; Nurturing
  Environment: Connect with others in a safe\, welcoming space\, free from 
 judgment and full of love.\n\nWhether you’re familiar with moon rituals 
 or new to the practice\, this circle is designed to support everyone on th
 eir journey of growth and transformation.\nWhy Attend?\n\n 	Harness the fu
 ll moon's energy for personal healing and manifestation\n 	Release negativ
 e energies and invite fresh intentions\n 	Build community with like-minded
  souls seeking peace\, healing\, and renewal\n\nDon’t Miss This Magical 
 Experience\nCome together to embrace the potent energy of the full moon. A
 llow yourself the space to release\, reflect\, and manifest your heart’s
  deepest desires.\n\n📅 Save your spot today and step into the transform
 ative power of the full moon!\n\nGET TICKETS\n
ATTACH;FMTTYPE=image/jpeg:https://breatheatlanta.us/wp-content/uploads/202
 5/02/Magical-Moonlight-Full-Moon-Releasing-Circle.jpeg
CATEGORIES:Wellness Events
LOCATION:The Hoot Spot Reiki Therapy Duluth\, 3883 Rogers Bridge Road\, STE
  206A Dulut\, GA\, 30097\, GA\, United States
X-APPLE-STRUCTURED-LOCATION;VALUE=URI;X-ADDRESS=3883 Rogers Bridge Road\, S
 TE 206A Dulut\, GA\, 30097\, GA\, United States;X-APPLE-RADIUS=100;X-TITLE
 =The Hoot Spot Reiki Therapy Duluth:geo:0,0
END:VEVENT
BEGIN:VTIMEZONE
TZID:America/New_York
X-LIC-LOCATION:America/New_York
BEGIN:STANDARD
DTSTART:20241103T010000
TZOFFSETFROM:-0400
TZOFFSETTO:-0500
TZNAME:EST
END:STANDARD
END:VTIMEZONE
END:VCALENDAR