BEGIN:VCALENDAR
VERSION:2.0
PRODID:-//wp-events-plugin.com//7.2.3.1//EN
TZID:America/New_York
X-WR-TIMEZONE:America/New_York
BEGIN:VEVENT
UID:514@breatheatlanta.us
DTSTART;TZID=America/New_York:20241026T100000
DTEND;TZID=America/New_York:20241026T190000
DTSTAMP:20240928T074226Z
URL:https://breatheatlanta.us/events/marietta-pal-fall-festival-family-fun
 -house/
SUMMARY:Marietta PAL Fall Festival Family Fun House
DESCRIPTION:The Marietta PAL Fall Festival Family Fun House promises to be 
 an exciting and colorful celebration that brings the community together fo
 r a day filled with joy and entertainment for all ages. This highly antici
 pated event offers a variety of activities designed to engage families and
  create lasting memories.\n\nAttendees can look forward to an array of int
 eractive games and activities that cater to both children and adults\, ens
 uring everyone finds something to enjoy. The festival will also feature fu
 n photo opportunities\, allowing families to capture their festive spirit 
 and creativity in unique settings. For those who love to dress up\, costum
 e prizes will be awarded\, adding an extra layer of excitement to the fest
 ivities.\n\nAs the sounds of lively music fill the air\, guests will have 
 the chance to indulge in delicious food from a selection of vendors\, sati
 sfying all tastes and preferences. The festival will also host a variety o
 f exciting vendors showcasing local products and crafts\, providing an opp
 ortunity for attendees to support small businesses while discovering somet
 hing new.\n\nThe Marietta PAL Fall Festival aims to create a safe and welc
 oming environment that encourages exploration\, creativity\, and laughter 
 among all participants. This community event is not just about fun\; it fo
 sters connections among families\, friends\, and neighbors\, reinforcing t
 he sense of togetherness that makes Marietta a special place to live. Join
  in the celebration for a day filled with excitement\, laughter\, and cher
 ished memories!\n\nGET TICKETS\n
ATTACH;FMTTYPE=image/jpeg:https://breatheatlanta.us/wp-content/uploads/202
 4/09/Marietta-PAL-Fall-Festival-Family-Fun-House.jpg
CATEGORIES:Things To Do
LOCATION:Outdoor Activity Center\, 1442 Richland Road\, S.W. Atlanta\,\, At
 lanta\, Georgia\, 30310\, GA\, United States
X-APPLE-STRUCTURED-LOCATION;VALUE=URI;X-ADDRESS=1442 Richland Road\, S.W. A
 tlanta\,\, Atlanta\, Georgia\, 30310\, GA\, United States;X-APPLE-RADIUS=1
 00;X-TITLE=Outdoor Activity Center:geo:0,0
END:VEVENT
BEGIN:VTIMEZONE
TZID:America/New_York
X-LIC-LOCATION:America/New_York
BEGIN:DAYLIGHT
DTSTART:20240310T030000
TZOFFSETFROM:-0500
TZOFFSETTO:-0400
TZNAME:EDT
END:DAYLIGHT
END:VTIMEZONE
END:VCALENDAR