BEGIN:VCALENDAR
VERSION:2.0
PRODID:-//wp-events-plugin.com//7.2.3.1//EN
TZID:America/New_York
X-WR-TIMEZONE:America/New_York
BEGIN:VEVENT
UID:494@breatheatlanta.us
DTSTART;TZID=America/New_York:20241019T120000
DTEND;TZID=America/New_York:20241019T130000
DTSTAMP:20240925T141911Z
URL:https://breatheatlanta.us/events/mat-pilates-at-bellyard/
SUMMARY:Mat Pilates at Bellyard
DESCRIPTION:Start your afternoon with a rejuvenating 45-minute Mat Pilates 
 class at Bellyard\, led by certified instructor Karrington Ballenger from 
 Oseko Pilates. The class runs from 12:00 to 1:00 PM and is designed to imp
 rove flexibility\, build core strength\, and promote overall well-being. W
 hether you're a beginner or an experienced Pilates practitioner\, this ses
 sion is tailored to accommodate all fitness levels\, making it accessible 
 and enjoyable for everyone.\n\nWhat to Expect: Participants will engage in
  a refreshing Pilates routine that focuses on enhancing body alignment\, i
 ncreasing core stability\, and boosting flexibility. The class provides a 
 balanced workout aimed at strengthening both the mind and body. Please rem
 ember to bring your own mat\, as you'll be using it throughout the session
 .\n\nExclusive Perks: After the workout\, unwind at Drawbar\, Bellyard’s
  stylish bar and lounge. All class attendees will receive an exclusive dis
 count\, making it the perfect opportunity to relax and socialize. Whether 
 you're grabbing a post-workout drink or enjoying a bite\, Drawbar offers a
  welcoming atmosphere to continue the experience.\n\nWhy Join:\n\n 	Suitab
 le for all levels\, from beginners to advanced Pilates enthusiasts\n 	Led 
 by a professional instructor with expertise in enhancing strength and flex
 ibility\n 	Convenient timing that fits into your midday routine\n 	Exclusi
 ve post-class discount at Bellyard's bar and lounge\n\nThis Mat Pilates cl
 ass combines fitness with relaxation\, offering a full-body workout follow
 ed by a chance to unwind in a chic setting. Come for the Pilates\, stay fo
 r the post-workout relaxation at Drawbar. It’s more than just a class 
 – it’s a way to reset your body and mind for the day ahead!\n\nGET TIC
 KETS\n
ATTACH;FMTTYPE=image/jpeg:https://breatheatlanta.us/wp-content/uploads/202
 4/09/Mat-Pilates-at-Bellyard.jpg
CATEGORIES:Sports &amp; Fitness Events
LOCATION:Bellyard\,  a Tribute Portfolio Hotel\, West Midtown Atlanta\, Geo
 rgia\, 30318\, GA\, United States
X-APPLE-STRUCTURED-LOCATION;VALUE=URI;X-ADDRESS= a Tribute Portfolio Hotel\
 , West Midtown Atlanta\, Georgia\, 30318\, GA\, United States;X-APPLE-RADI
 US=100;X-TITLE=Bellyard:geo:0,0
END:VEVENT
BEGIN:VTIMEZONE
TZID:America/New_York
X-LIC-LOCATION:America/New_York
BEGIN:DAYLIGHT
DTSTART:20240310T030000
TZOFFSETFROM:-0500
TZOFFSETTO:-0400
TZNAME:EDT
END:DAYLIGHT
END:VTIMEZONE
END:VCALENDAR