BEGIN:VCALENDAR
VERSION:2.0
PRODID:-//wp-events-plugin.com//7.2.3.1//EN
TZID:America/New_York
X-WR-TIMEZONE:America/New_York
BEGIN:VEVENT
UID:713@breatheatlanta.us
DTSTART;TZID=America/New_York:20241118T100000
DTEND;TZID=America/New_York:20241118T120000
DTSTAMP:20241024T183413Z
URL:https://breatheatlanta.us/events/medicare-education-session/
SUMMARY:Medicare Education Session
DESCRIPTION:The upcoming Medicare Education Session offers a unique opportu
 nity to enhance your understanding of Medicare\, all at no cost to attende
 es. This informative event will include complimentary refreshments and is 
 designed to provide essential insights into Medicare plans and options. Wi
 th limited seating available\, participants are encouraged to reserve thei
 r spots as soon as possible.\n\nFor those unable to attend the session in 
 person\, personalized one-on-one consultations are available. These consul
 tations can be conducted in person\, over the phone\, or through virtual m
 eetings\, ensuring convenience and accessibility. Participants can work di
 rectly with a dedicated agent rather than navigating a call center\, allow
 ing for tailored support throughout the year.\n\nThis event serves clients
  across various states\, including Georgia\, Alabama\, Mississippi\, South
  Carolina\, North Carolina\, Tennessee\, Illinois\, Kentucky\, Florida\, T
 exas\, and beyond. For more information or to secure your reservation\, vi
 sit www.Call2FindInsurance.com or call 866-222-1349 (TTY: 711). Don’t mi
 ss this chance to empower yourself with the knowledge you need to make inf
 ormed decisions about your Medicare options!\n\nGET TICKETS\n
ATTACH;FMTTYPE=image/jpeg:https://breatheatlanta.us/wp-content/uploads/202
 4/10/Medicare-Education-Session.jpg
CATEGORIES:Wellness Events
LOCATION:510 Plaza Dr suite 1210\, 510 Plaza Drive\, Atlanta\, Georgia\, 30
 349\, GA\, United States
X-APPLE-STRUCTURED-LOCATION;VALUE=URI;X-ADDRESS=510 Plaza Drive\, Atlanta\,
  Georgia\, 30349\, GA\, United States;X-APPLE-RADIUS=100;X-TITLE=510 Plaza
  Dr suite 1210:geo:0,0
END:VEVENT
BEGIN:VTIMEZONE
TZID:America/New_York
X-LIC-LOCATION:America/New_York
BEGIN:STANDARD
DTSTART:20241103T010000
TZOFFSETFROM:-0400
TZOFFSETTO:-0500
TZNAME:EST
END:STANDARD
END:VTIMEZONE
END:VCALENDAR