BEGIN:VCALENDAR
VERSION:2.0
PRODID:-//wp-events-plugin.com//7.2.3.1//EN
TZID:America/New_York
X-WR-TIMEZONE:America/New_York
BEGIN:VEVENT
UID:450@breatheatlanta.us
DTSTART;TZID=America/New_York:20240918T110000
DTEND;TZID=America/New_York:20240918T130000
DTSTAMP:20240904T153610Z
URL:https://breatheatlanta.us/events/meditative-art-class/
SUMMARY:Meditative Art Class
DESCRIPTION:Step into a world of mindfulness and artistic expression with o
 ur signature Meditative Art workshop\, guided by the talented Yuliya Stepa
 nov. This unique class invites participants to embark on a creative journe
 y that blends the serenity of meditation with the profound symbolism of sa
 cred geometry.\n\nThe workshop begins with a calming guided meditation\, d
 esigned to help you release stress and find inner peace. As your mind clea
 rs and settles into a state of tranquility\, you'll be ready to explore th
 e powerful connection between art and mindfulness.\n\nIn this meditative s
 pace\, you will be introduced to sacred geometry—an ancient discipline t
 hat reveals the mathematical patterns underlying the universe. Symbols lik
 e the Flower of Life or the Seed of Life are more than just shapes\; they 
 represent the harmony between the mind\, body\, and spirit\, offering deep
  insights into the nature of existence.\n\nWith Yuliya's guidance\, you’
 ll learn to translate your inner experiences into tangible art. Through th
 e use of sacred geometric patterns\, lines\, and symbols\, you'll create a
  visual representation of your personal intentions\, aspirations\, and des
 ires. The process encourages a deep focus\, allowing your creativity to fl
 ow naturally and intuitively.\n\nAs you engage with these ancient symbols\
 , you’ll tap into a universal language that resonates with the soul\, fo
 stering a sense of connection to the world around you. This workshop not o
 nly enhances artistic skills but also offers numerous mental and emotional
  benefits\, such as reduced anxiety\, improved clarity\, and the ability t
 o set meaningful intentions.\n\nThis transformative experience is open to 
 all\, regardless of prior artistic experience. Whether you’re seeking pe
 rsonal growth\, a sense of peace\, or a creative outlet\, the Meditative A
 rt Class provides a welcoming space for profound self-discovery and intent
 ional expression. Join us\, and let your creativity lead you to a deeper u
 nderstanding of yourself and your place in the universe.\n\nGET TICKETS\n
ATTACH;FMTTYPE=image/jpeg:https://breatheatlanta.us/wp-content/uploads/202
 4/09/Meditative-Art-Class.jpg
CATEGORIES:Mindfulness Events,Things To Do,Wellness Events
LOCATION:Aum Studio for Wellness\, 11550 Webb Bridge Way #Suite B2 Alpharet
 ta\, Atlanta\, Georgia\, 30005\, GA\, United States
X-APPLE-STRUCTURED-LOCATION;VALUE=URI;X-ADDRESS=11550 Webb Bridge Way #Suit
 e B2 Alpharetta\, Atlanta\, Georgia\, 30005\, GA\, United States;X-APPLE-R
 ADIUS=100;X-TITLE=Aum Studio for Wellness:geo:0,0
END:VEVENT
BEGIN:VTIMEZONE
TZID:America/New_York
X-LIC-LOCATION:America/New_York
BEGIN:DAYLIGHT
DTSTART:20240310T030000
TZOFFSETFROM:-0500
TZOFFSETTO:-0400
TZNAME:EDT
END:DAYLIGHT
END:VTIMEZONE
END:VCALENDAR