BEGIN:VCALENDAR
VERSION:2.0
PRODID:-//wp-events-plugin.com//7.2.3.1//EN
TZID:America/New_York
X-WR-TIMEZONE:America/New_York
BEGIN:VEVENT
UID:449@breatheatlanta.us
DTSTART;TZID=America/New_York:20240918T110000
DTEND;TZID=America/New_York:20240918T130000
DTSTAMP:20240904T153122Z
URL:https://breatheatlanta.us/events/meet-yourself-through-astrology/
SUMMARY:Meet Yourself Through Astrology
DESCRIPTION:Join a transformative experience with Yuliya Stepanov in our si
 gnature Meditative Art workshop\, where mindfulness\, creativity\, and the
  ancient wisdom of sacred geometry converge. This unique workshop invites 
 you to embark on a journey of self-discovery\, offering a serene space to 
 explore your inner world through art.\n\nThe session begins with a guided 
 meditation\, designed to help you relax\, center your mind\, and cultivate
  a deep sense of calm. This meditative practice gradually dissolves stress
  and anxiety\, paving the way for clarity and mindfulness to emerge.\n\nAs
  you settle into a state of inner stillness\, you’ll be introduced to th
 e profound concept of sacred geometry—an ancient mathematical language t
 hat underlies the natural world. Patterns like the Flower of Life or the S
 eed of Life hold powerful symbolic meanings\, believed to align the mind\,
  body\, and spirit in harmony.\n\nGuided by Yuliya\, you’ll explore vari
 ous techniques and materials to create a personal art piece\, infused with
  your intentions and aspirations. Through the use of sacred geometric shap
 es\, lines\, and symbols\, your artwork becomes a visual manifestation of 
 your inner journey.\n\nThe process of creating art in this meditative stat
 e fosters a profound sense of focus and presence. As you engage with the s
 acred geometry\, you tap into a universal language that speaks directly to
  the soul\, allowing your artistic expression to flow freely and authentic
 ally.\n\nGET TICKETS\n
ATTACH;FMTTYPE=image/jpeg:https://breatheatlanta.us/wp-content/uploads/202
 4/09/Meet-Yourself-Through-Astrology.jpg
CATEGORIES:Mindfulness Events,Things To Do,Wellness Events,Yoga Events
LOCATION:Aum Studio for Wellness\, 11550 Webb Bridge Way #Suite B2 Alpharet
 ta\, Atlanta\, Georgia\, 30005\, GA\, United States
X-APPLE-STRUCTURED-LOCATION;VALUE=URI;X-ADDRESS=11550 Webb Bridge Way #Suit
 e B2 Alpharetta\, Atlanta\, Georgia\, 30005\, GA\, United States;X-APPLE-R
 ADIUS=100;X-TITLE=Aum Studio for Wellness:geo:0,0
END:VEVENT
BEGIN:VTIMEZONE
TZID:America/New_York
X-LIC-LOCATION:America/New_York
BEGIN:DAYLIGHT
DTSTART:20240310T030000
TZOFFSETFROM:-0500
TZOFFSETTO:-0400
TZNAME:EDT
END:DAYLIGHT
END:VTIMEZONE
END:VCALENDAR