BEGIN:VCALENDAR
VERSION:2.0
PRODID:-//wp-events-plugin.com//7.2.3.1//EN
TZID:America/New_York
X-WR-TIMEZONE:America/New_York
BEGIN:VEVENT
UID:210@breatheatlanta.us
DTSTART;TZID=America/New_York:20240413T060000
DTEND;TZID=America/New_York:20240413T110000
DTSTAMP:20240404T101349Z
URL:https://breatheatlanta.us/events/mens-sunrise-hike-yoga-experience/
SUMMARY:Men’s Sunrise Hike & Yoga Experience
DESCRIPTION:In the embrace of nature's tranquility\, we come together to fo
 rtify our minds and bodies\, weaving bonds of camaraderie as we nurture ou
 r mental and physical well-being.\n\nEvent Information:\n\nEvent Name: Men
 ’s Sunrise Hike &amp\; Yoga Experience\n\nHost: Accountability Brother\n
 \nDate and Time: Saturday\, April 13 • Starts at 6am EDT\n\nLocation: Ar
 abia Mountain\, 3350 Klondike Road Stonecrest\, GA 30038 United States\n\n
 About this Event:\n\nMen’s Sunrise Hike and Yoga Experience at Arabia Mo
 untain in Lithonia\, GA on April 13th at 6:00 AM\, guided by Accountabilit
 y Brother. As we gather to strengthen our mental and physical wellness in 
 nature\, here's what you'll need:\n\nFor the hike:\n\nTrail shoes or hikin
 g boots\n\nWeather-appropriate clothing (layers are recommended)\n\nWater 
 bottle\n\nSnacks\n\nSunscreen\n\nFlashlight or headlamp\n\nHat or sunglass
 es\n\nSmall backpack to carry essentials\n\nFor the yoga session:\n\nYoga 
 mat\n\nTowel\n\nComfortable clothing suitable for movement\n\nCome prepare
 d to build better together and connect with nature as we embark on this jo
 urney of self-care and growth. See you there!\n\nTicket Information:\n\nGe
 neral Admission:\n\n1 x General Admission\n\nTotal: $0.00\n\nGET TICKETS\n
 \nWorkout Session Detail:\n\nDuration: 5 hours\n\nThe event starts with a 
 sunrise hike followed by a yoga session.\n\nParticipants will engage in st
 rengthening their mental and physical wellness in nature.\n\nEssential for
  Bring:\n\nFor the hike: Trail shoes or hiking boots\, weather-appropriate
  clothing\, water bottle\, snacks\, sunscreen\, flashlight or headlamp\, h
 at or sunglasses\, small backpack.\n\nFor the yoga session: Yoga mat\, tow
 el\, comfortable clothing suitable for movement.\n\nParking Option: Availa
 ble at Arabia Mountain.\n\nThis event offers a unique opportunity for men 
 to connect with nature\, strengthen their bodies and minds\, and foster bo
 nds with like-minded individuals through a combination of sunrise hiking a
 nd yoga practice.
ATTACH;FMTTYPE=image/jpeg:https://breatheatlanta.us/wp-content/uploads/202
 4/04/7897897977.jpg
CATEGORIES:Wellness Events,Yoga Events
LOCATION:Arabia Mountain\,   3350 Klondike Road \, \, Stonecrest\, United S
 tates\, 30038 \, GA \, United States
X-APPLE-STRUCTURED-LOCATION;VALUE=URI;X-ADDRESS=  3350 Klondike Road \, \, 
 Stonecrest\, United States\, 30038 \, GA \, United States;X-APPLE-RADIUS=1
 00;X-TITLE=Arabia Mountain:geo:0,0
END:VEVENT
BEGIN:VTIMEZONE
TZID:America/New_York
X-LIC-LOCATION:America/New_York
BEGIN:DAYLIGHT
DTSTART:20240310T030000
TZOFFSETFROM:-0500
TZOFFSETTO:-0400
TZNAME:EDT
END:DAYLIGHT
END:VTIMEZONE
END:VCALENDAR