BEGIN:VCALENDAR
VERSION:2.0
PRODID:-//wp-events-plugin.com//7.2.3.1//EN
TZID:America/New_York
X-WR-TIMEZONE:America/New_York
BEGIN:VEVENT
UID:247@breatheatlanta.us
DTSTART;TZID=America/New_York:20240504T100000
DTEND;TZID=America/New_York:20240504T130000
DTSTAMP:20240416T150354Z
URL:https://breatheatlanta.us/events/mental-health-awareness-workshop/
SUMMARY:"You Matter" Mental Health Awareness Workshop
DESCRIPTION:\nFree Mental Health Workshop: Empower Yourself &amp\; Connect 
 with Others!\nCalling all Decatur residents! Join a powerful in-person wor
 kshop designed to raise mental health awareness and equip you with tools f
 or well-being.\n"You Matter" Mental Health Awareness Workshop:\nThis free 
 event\, held at 581 Parker Ave\, Decatur\, GA 30032\, offers an empowering
  and supportive environment to prioritize your mental health.\nGain Valuab
 le Insights:\n\n\n 	Hear from dynamic speakers\, including Pastors Perciva
 l Ambeau and Selina Thompson\, and Missionary Mary Ambeau.\n 	Discover str
 ategies for self-care and prioritizing your mental well-being.\n 	Learn fr
 om personal experiences and gain inspiration to create positive change.\n\
 nMore Than a Workshop:\nThis event goes beyond information\; it's a chance
  to connect with others on their mental health journey. Build a supportive
  network and find resources for continued success.\nLunch is Provided!\nFo
 cus on your well-being without worry. Lunch will be provided at this free 
 event.\nTogether We Thrive:\nJoin Jared's Heart of Success\, Mt. Welcome M
 issionary Baptist Church\, and Woke Worship Center to make a difference in
  mental health awareness. Together\, we can build a more supportive commun
 ity.\nRegister Today!\nDon't miss this opportunity to invest in yourself a
 nd your mental well-being. Space is limited\, so register today for this f
 ree event!\nLet's empower each other and prioritize mental health!\n\n\n\n
 BOOK SPOTS\n
ATTACH;FMTTYPE=image/jpeg:https://breatheatlanta.us/wp-content/uploads/202
 4/04/https___cdn.evbuc_.com_images_741763789_187907381211_1_original.jpeg
CATEGORIES:Wellness Events
LOCATION:581 Parker Ave\, 581 Parker Avenue\, Decatur\, Georgia\, 30032\, U
 nited States
X-APPLE-STRUCTURED-LOCATION;VALUE=URI;X-ADDRESS=581 Parker Avenue\, Decatur
 \, Georgia\, 30032\, United States;X-APPLE-RADIUS=100;X-TITLE=581 Parker A
 ve:geo:0,0
END:VEVENT
BEGIN:VTIMEZONE
TZID:America/New_York
X-LIC-LOCATION:America/New_York
BEGIN:DAYLIGHT
DTSTART:20240310T030000
TZOFFSETFROM:-0500
TZOFFSETTO:-0400
TZNAME:EDT
END:DAYLIGHT
END:VTIMEZONE
END:VCALENDAR