BEGIN:VCALENDAR
VERSION:2.0
PRODID:-//wp-events-plugin.com//7.2.3.1//EN
TZID:America/New_York
X-WR-TIMEZONE:America/New_York
BEGIN:VEVENT
UID:188@breatheatlanta.us
DTSTART;TZID=America/New_York:20240529T110000
DTEND;TZID=America/New_York:20240529T120000
DTSTAMP:20240404T103324Z
URL:https://breatheatlanta.us/events/mental-health-matters-summer-edition/
SUMMARY:Mental Health Matters: Summer Edition
DESCRIPTION:Embark on a journey of understanding and awareness with the Cob
 b Collaborative as we delve into an informative session on mental health a
 nd the prevalent types of mental health conditions. Join us to gain insigh
 ts\, dispel myths\, and foster a deeper understanding of mental well-being
 . Together\, let's prioritize mental health and pave the way for a healthi
 er\, more supportive community.\n\nEvent Information:\n\nEvent Name: Menta
 l Health Matters: Summer Edition\n\nHost: Cobb Collaborative\n\nDate and T
 ime: Wednesday\, May 29 • 11:00 AM - 12:00 PM EDT and 6:00 PM - 7:00 PM 
 EDT\n\nLocation: South Cobb Regional Library 805 Clay Road Mableton\, GA 3
 0126 United States\n\nAbout this Event: Mental Health Matters - Summer Ed
 ition\, hosted by the Cobb Collaborative. This informational session will 
 shed light on the importance of mental health and the most common types of
  mental health conditions. Explore strategies to build resilience\, reduce
  stigma\, and connect with local resources. Whether you're seeking knowled
 ge for personal growth or to support others\, this event offers valuable i
 nsights into mental well-being.\n\nTicket Information:\n\n1 x RSVP: $0.00\
 n\nTotal: $0.00\n\nGET TICKETS\n\nersations about mental health and well-b
 eing at Mental Health Matters: Summer Edition. Join us at the South Cobb R
 egional Library to gain valuable insights and connect with resources that 
 promote mental wellness.
ATTACH;FMTTYPE=image/jpeg:https://breatheatlanta.us/wp-content/uploads/202
 4/03/ERERERR.jpg
CATEGORIES:Wellness Events
LOCATION:South Cobb Regional Library\,   805 Clay Road\,  Mableton\, \, Uni
 ted States\, 30126 \, GA \, United States
X-APPLE-STRUCTURED-LOCATION;VALUE=URI;X-ADDRESS=  805 Clay Road\,  Mableton
 \, \, United States\, 30126 \, GA \, United States;X-APPLE-RADIUS=100;X-TI
 TLE=South Cobb Regional Library:geo:0,0
END:VEVENT
BEGIN:VTIMEZONE
TZID:America/New_York
X-LIC-LOCATION:America/New_York
BEGIN:DAYLIGHT
DTSTART:20240310T030000
TZOFFSETFROM:-0500
TZOFFSETTO:-0400
TZNAME:EDT
END:DAYLIGHT
END:VTIMEZONE
END:VCALENDAR