BEGIN:VCALENDAR
VERSION:2.0
PRODID:-//wp-events-plugin.com//7.2.3.1//EN
TZID:America/New_York
X-WR-TIMEZONE:America/New_York
BEGIN:VEVENT
UID:340@breatheatlanta.us
DTSTART;TZID=America/New_York:20240714T120000
DTEND;TZID=America/New_York:20240714T170000
DTSTAMP:20240909T094217Z
URL:https://breatheatlanta.us/events/mesotherapy-training-atlanta/
SUMMARY:Mesotherapy Training – Atlanta
DESCRIPTION:Mesotherapy Training in Atlanta offers a comprehensive learning
  experience for physicians\, nurses\, nurse practitioners\, and other medi
 cal professionals. This event focuses on teaching the latest protocols and
  traditional therapies for spot fat reduction.\n\nAbout the Training:\n\nM
 esotherapy\, also known as Lipo Dissolve\, remains a popular choice among 
 patients due to its simplicity in burning fat and cellulite and its safer 
 profile compared to liposuction. At Empire Medical Training\, attendees wi
 ll explore the latest technologies for fat and cellulite reduction\, inclu
 ding non-invasive delivery systems such as RF Thermal and Needleless Meso\
 , alongside traditional Mesotherapy techniques.\n\nTraining Highlights:\n\
 n 	New Technologies: Learn about cutting-edge\, non-invasive delivery syst
 ems for fat and cellulite reduction.\n 	Comprehensive Protocols: Gain in-d
 epth knowledge of the specific formulas\, forms\, consents\, and prescript
 ions needed for Mesotherapy treatments.\n 	Hands-On Experience: Receive pr
 actical training with detailed instructions on formulating and compounding
  the ingredients for each treatment mixture.\n\nWho Should Attend:\n\nThis
  training is designed for established medical professionals looking to exp
 and their procedural capabilities in aesthetic treatments\, including:\n\n
  	Physicians\n 	Nurses\n 	Nurse Practitioners\n 	Other Medical Professiona
 ls\n\nWhy Attend:\n\n 	Expert Knowledge: Learn from industry leaders about
  the newest medications and traditional therapies for Mesotherapy.\n 	Safe
 ty and Efficacy: Understand the safety profile of Mesotherapy compared to 
 other fat reduction methods like liposuction.\n 	Expand Your Practice: Enh
 ance your procedural offerings and provide your patients with effective fa
 t and cellulite reduction treatments.\n\nJoin Us:\n\nDon't miss the opport
 unity to advance your medical practice with cutting-edge Mesotherapy train
 ing. Register today to secure your spot and take your aesthetic skills to 
 the next level!\n\nGET TICKETS\n
ATTACH;FMTTYPE=image/jpeg:https://breatheatlanta.us/wp-content/uploads/202
 4/06/Mesotherapy-Training-Atlanta.jpg
CATEGORIES:Things To Do
LOCATION:Hyatt Centric Buckhead Atlanta\, 3301 Lenox Parkway Atlanta\, Atla
 nta\, Georgia\, 30326\, GA \, United States
X-APPLE-STRUCTURED-LOCATION;VALUE=URI;X-ADDRESS=3301 Lenox Parkway Atlanta\
 , Atlanta\, Georgia\, 30326\, GA \, United States;X-APPLE-RADIUS=100;X-TIT
 LE=Hyatt Centric Buckhead Atlanta:geo:0,0
END:VEVENT
BEGIN:VTIMEZONE
TZID:America/New_York
X-LIC-LOCATION:America/New_York
BEGIN:DAYLIGHT
DTSTART:20240310T030000
TZOFFSETFROM:-0500
TZOFFSETTO:-0400
TZNAME:EDT
END:DAYLIGHT
END:VTIMEZONE
END:VCALENDAR