BEGIN:VCALENDAR
VERSION:2.0
PRODID:-//wp-events-plugin.com//7.2.3.1//EN
TZID:America/New_York
X-WR-TIMEZONE:America/New_York
BEGIN:VEVENT
UID:132@breatheatlanta.us
DTSTART;TZID=America/New_York:20240327T120000
DTEND;TZID=America/New_York:20240327T130000
DTSTAMP:20240905T130821Z
URL:https://breatheatlanta.us/events/midday-yoga-flow/
SUMMARY:Midday Yoga Flow
DESCRIPTION:A rejuvenating Midday Yoga Flow session EVERY WEEK on Tuesdays 
 through Thursdays. We eagerly anticipate the opportunity to share space wi
 th you and guide you through a tranquil yoga experience.\n\nEvent Informat
 ion:\n\nEvent Name: Midday Yoga Flow\n\nHost: Juiced Up Wellness\n\nDate a
 nd Time: Wednesday\, March 27 • 12:00 PM - 1:00 PM CDT\n\nLocation: 1066
  Ralph David Abernathy Boulevard\, Atlanta\, GA 30310\, United States\n\nA
 bout this Event:\n\nFind your inner calm and rejuvenate your spirit with a
 n open-to-all-bodies midday yoga class hosted by Juiced Up Wellness. This 
 one-hour session offers a sanctuary for individuals seeking tranquility am
 idst their busy day.\n\nWhy:\n\nRefresh: Take a break to refresh your mind
  and body.\n\nRelax: Release stress and tension through calming poses.\n\n
 Recharge: Energize yourself for the remainder of the day.\n\nReconnect: Co
 nnect with your inner self and find balance.\n\nThis class welcomes partic
 ipants of all experience levels and body types\, emphasizing yoga as a pra
 ctice of self-discovery and self-care. Whether you're new to yoga or an ex
 perienced yogi\, the welcoming space invites you to experience the joy of 
 movement and the peace of stillness.\n\nStep onto your mat\, let go of dai
 ly worries\, and allow the experienced instructors to guide you toward you
 r inner oasis. Come as you are and leave feeling refreshed and recharged.\
 n\nTicket Information:\n\nYoga Class: $15.00\n\nFees: $2.85\n\nTotal: $17.
 85 (including sales tax)\n\nGET TICKETS\n\n\nRefund Policy: Contact the or
 ganizer to request a refund. Eventbrite's fee is nonrefundable.\n\nEssenti
 als for Attendees:\n\nComfortable clothing suitable for yoga practice.\n\n
 Yoga mat (if available).\n\nWater bottle for hydration.\n\nParking Option:
  Details about parking options were not provided. Attendees are advised to
  check for parking availability in the vicinity of the event location.\n\n
 &nbsp\;
ATTACH;FMTTYPE=image/jpeg:https://breatheatlanta.us/wp-content/uploads/202
 4/03/7777777777777777777777777777.jpg
CATEGORIES:Wellness Events,Yoga Events
LOCATION:1066 Ralph David Abernathy Blvd\,   1066 Ralph David Abernathy Bou
 levard \, \, Atlanta\, United States\, 30310 \, GA \, United States
X-APPLE-STRUCTURED-LOCATION;VALUE=URI;X-ADDRESS=  1066 Ralph David Abernath
 y Boulevard \, \, Atlanta\, United States\, 30310 \, GA \, United States;X
 -APPLE-RADIUS=100;X-TITLE=1066 Ralph David Abernathy Blvd:geo:0,0
END:VEVENT
BEGIN:VTIMEZONE
TZID:America/New_York
X-LIC-LOCATION:America/New_York
BEGIN:DAYLIGHT
DTSTART:20240310T030000
TZOFFSETFROM:-0500
TZOFFSETTO:-0400
TZNAME:EDT
END:DAYLIGHT
END:VTIMEZONE
END:VCALENDAR