BEGIN:VCALENDAR
VERSION:2.0
PRODID:-//wp-events-plugin.com//7.2.3.1//EN
TZID:America/New_York
X-WR-TIMEZONE:America/New_York
BEGIN:VEVENT
UID:295@breatheatlanta.us
DTSTART;TZID=America/New_York:20240607T180000
DTEND;TZID=America/New_York:20240607T235000
DTSTAMP:20240525T184224Z
URL:https://breatheatlanta.us/events/midnight-market-atl/
SUMMARY:Midnight Market ATL
DESCRIPTION:Midnight Market ATL is the ultimate all-night happy hour for fo
 od lovers who enjoy eating\, drinking\, and dancing! Whether you come with
  friends\, a date\, or solo\, the key is to bring your appetite for this 2
 1+ foodie fest.\nEvent Highlights\n\n 	Culinary Adventure: Taste flavors f
 rom around the world with over 40 food vendors and food trucks offering di
 verse and delicious options.\n 	Local Artisans: Explore the creations of m
 ore than 40 local artisans\, artists\, and makers showcasing their unique 
 products.\n 	Affordable Eats: Enjoy small plate menus from outdoor vendors
  priced at $8 or less. Each vendor also offers a $5 sample option\, allowi
 ng you to try a bit of everything without breaking the bank.\n 	Multiple B
 ars: Quench your thirst at several bars scattered throughout the venue.\n 
 	Roller Rink Fun: Glide around a massive 80ft by 60ft roller rink with fre
 e roller skating and skate rentals available on a first-come\, first-serve
  basis.\n 	Live Entertainment: Groove to the beats of live DJs who will ke
 ep the energy high while you enjoy your food.\n 	Activities and Games: Par
 ticipate in free lawn games and other activities for a full night of enter
 tainment.\n 	Outdoor Venue: Embrace the night air in this vibrant outdoor 
 setting.\n 	VIP Experience: Opt for VIP tickets to enjoy exclusive perks a
 nd a more elevated experience.\n\nDon’t miss out on this exciting night 
 of culinary delights\, music\, and fun at Midnight Market ATL!\n\nGET TICK
 ETS\n
ATTACH;FMTTYPE=image/jpeg:https://breatheatlanta.us/wp-content/uploads/202
 4/05/Midnight-Market-ATL.jpg
CATEGORIES:Food &amp; Drink Events
LOCATION:Pinnacle Lot\, 221 20th Street Atlanta\, Atlanta\, Georgia\, 30363
 \, GA\, United States
X-APPLE-STRUCTURED-LOCATION;VALUE=URI;X-ADDRESS=221 20th Street Atlanta\, A
 tlanta\, Georgia\, 30363\, GA\, United States;X-APPLE-RADIUS=100;X-TITLE=P
 innacle Lot:geo:0,0
END:VEVENT
BEGIN:VTIMEZONE
TZID:America/New_York
X-LIC-LOCATION:America/New_York
BEGIN:DAYLIGHT
DTSTART:20240310T030000
TZOFFSETFROM:-0500
TZOFFSETTO:-0400
TZNAME:EDT
END:DAYLIGHT
END:VTIMEZONE
END:VCALENDAR