BEGIN:VCALENDAR
VERSION:2.0
PRODID:-//wp-events-plugin.com//7.2.3.1//EN
TZID:America/New_York
X-WR-TIMEZONE:America/New_York
BEGIN:VEVENT
UID:573@breatheatlanta.us
DTSTART;TZID=America/New_York:20241106T200000
DTEND;TZID=America/New_York:20241106T210000
DTSTAMP:20241009T114828Z
URL:https://breatheatlanta.us/events/mindful-painting-exploring-meditation
 -2/
SUMMARY:Mindful painting. Exploring Meditation.
DESCRIPTION:Immerse yourself in a peaceful\, creative journey at Energy Wor
 ks ATL with "Mindful Painting: Exploring Meditation." This in-person event
  offers a unique blend of meditation and painting\, designed to help parti
 cipants find inner calm and express their creativity. Through guided medit
 ation techniques\, you'll learn to quiet your mind\, relax\, and allow you
 r artistic side to flourish as you paint with mindfulness. No prior experi
 ence in painting or meditation is required—this event is perfect for beg
 inners and seasoned artists alike who wish to explore the therapeutic bene
 fits of combining these two practices.\n\nAt Energy Works ATL\, the serene
  and welcoming environment sets the stage for a truly enriching experience
 . Our expert instructors will guide you every step of the way\, providing 
 all necessary materials for your artistic journey. Come as you are\, and l
 et your creativity flow freely onto the canvas as you embrace the present 
 moment.\n\nDon’t miss this opportunity to engage in a relaxing and trans
 formative experience. Reserve your spot today to explore the intersection 
 of art and mindfulness in a fun and supportive setting at Energy\n\nGET TI
 CKETS\n
ATTACH;FMTTYPE=image/jpeg:https://breatheatlanta.us/wp-content/uploads/202
 4/10/Mindful-painting.jpeg
CATEGORIES:Wellness Events
LOCATION:Energy Works ATL\, 1215 Hightower Trail Building \, Suite 101 Atla
 nta\, California\, 30350\, CA\, United States
X-APPLE-STRUCTURED-LOCATION;VALUE=URI;X-ADDRESS=1215 Hightower Trail Buildi
 ng \, Suite 101 Atlanta\, California\, 30350\, CA\, United States;X-APPLE-
 RADIUS=100;X-TITLE=Energy Works ATL:geo:0,0
END:VEVENT
BEGIN:VTIMEZONE
TZID:America/New_York
X-LIC-LOCATION:America/New_York
BEGIN:STANDARD
DTSTART:20241103T010000
TZOFFSETFROM:-0400
TZOFFSETTO:-0500
TZNAME:EST
END:STANDARD
END:VTIMEZONE
END:VCALENDAR