BEGIN:VCALENDAR
VERSION:2.0
PRODID:-//wp-events-plugin.com//7.2.3.1//EN
TZID:America/New_York
X-WR-TIMEZONE:America/New_York
BEGIN:VEVENT
UID:51@breatheatlanta.us
DTSTART;TZID=America/New_York:20240601T130000
DTEND;TZID=America/New_York:20240601T160000
DTSTAMP:20240320T054005Z
URL:https://breatheatlanta.us/events/mindful-wellness-coaching-workshop/
SUMMARY:Mindful Wellness Coaching Workshop
DESCRIPTION:\n\n\n\n\n\n\n\n\n\n\n\n\nGear up for an immersive experience i
 nsert "to elevate to elevate  your overall well-being during our Wellness
  Coaching Workshop. Join us on a transformative journey where you'll disco
 ver an array of practical tips and techniques meticulously crafted to empo
 wer you on your path to healing and self-discovery.\n\nEvent Information:\
 n\nEvent Name: Mindful Wellness Coaching Workshop\n\nHost: Coach Vee\n\nDu
 ration: 3 hours\n\nDate and Time:\n\nDate: Saturday\, June 1\, 2024\n\nTim
 e: 1:00 pm - 4:00 pm EDT\n\nLocation:\n\nVenue: Smyrna Community Center\n\
 nAddress: 200 Village Green Circle Southeast\, Smyrna\, GA 30080\, United 
 States\n\nAbout this Event:\n\nWelcome to the Mindful Wellness Coaching Wo
 rkshop hosted by Coach Vee! This workshop is designed to help you boost yo
 ur well-being by providing practical tips and techniques to enhance variou
 s aspects of your life\, including physical\, mental\, emotional\, and spi
 ritual wellness. Through interactive discussions and expert guidance from 
 Coach Vee\, attendees will have the opportunity to set achievable goals an
 d create personalized wellness plans. Whether seeking to improve your rela
 tionships with yourself and others or striving for overall happiness\, thi
 s workshop aims to empower you with the knowledge and tools necessary for 
 success.\n\nTicket Information:\n\nTicket Price: $25 - $30\n\n&nbsp\;\n\nG
 ET TICKETS\n\nRefund Policy: Contact the organizer to request a refund. Ev
 entbrite's fee is nonrefundable.\n\nWorkshop Session Details:\n\nThe works
 hop will span three hours\, comprising interactive discussions and informa
 tive sessions led by Coach Vee.\n\nAttendees will learn practical tips and
  techniques to improve their overall well-being\, focusing on setting achi
 evable goals and creating personalized wellness plans.\n\nEssentials to Br
 ing:\n\nAn open mind and willingness to learn\n\nNotepad and pen for takin
 g notes\n\nComfortable clothing\n\nParking Options:\n\nParking is availabl
 e at the Smyrna Community Center. Please refer to the venue's parking faci
 lities for more information.\n\n\n\n\n\n\n\n\n\n\n\n\n\n
ATTACH;FMTTYPE=image/jpeg:https://breatheatlanta.us/wp-content/uploads/202
 4/03/https___cdn.evbuc_.com_images_668305929_1956628087293_1_original.jpeg
CATEGORIES:Wellness Events
LOCATION:Smyrna Community Center\, 200 Village Green Circle Southeast Smyrn
 a\, GA 30080 United States\, GA\, United States\, 30080\, GA\, United Stat
 es
X-APPLE-STRUCTURED-LOCATION;VALUE=URI;X-ADDRESS=200 Village Green Circle So
 utheast Smyrna\, GA 30080 United States\, GA\, United States\, 30080\, GA\
 , United States;X-APPLE-RADIUS=100;X-TITLE=Smyrna Community Center:geo:0,0
END:VEVENT
BEGIN:VTIMEZONE
TZID:America/New_York
X-LIC-LOCATION:America/New_York
BEGIN:DAYLIGHT
DTSTART:20240310T030000
TZOFFSETFROM:-0500
TZOFFSETTO:-0400
TZNAME:EDT
END:DAYLIGHT
END:VTIMEZONE
END:VCALENDAR