BEGIN:VCALENDAR
VERSION:2.0
PRODID:-//wp-events-plugin.com//7.2.3.1//EN
TZID:America/New_York
X-WR-TIMEZONE:America/New_York
BEGIN:VEVENT
UID:232@breatheatlanta.us
DTSTART;TZID=America/New_York:20240601T130000
DTEND;TZID=America/New_York:20240601T160000
DTSTAMP:20240407T120840Z
URL:https://breatheatlanta.us/events/mindful-wellness-workshop-and-network
 ing/
SUMMARY:Begin Your Journey to Healing: Mindful Wellness Workshop and Networ
 king
DESCRIPTION:\nReimagine Your Well-being: Coach Vee's Wellness Coaching Work
 shop\nCalling all women seeking a happier\, healthier you! Mindful Intenti
 ons Coaching Services presents a transformative Wellness Coaching Workshop
  led by the insightful Coach Vee.\nMark your calendars! Join us on June 1s
 t\, 2024 from 1:00 PM to 4:00 PM at 200 Village Green Circle SE Smyrna\, G
 A 30080.\nHere's what awaits you:\n\n\n 	Unleash Your Self-Healing Power: 
 Explore powerful techniques to nurture self-compassion and cultivate inner
  resilience in this engaging session with Coach Vee.\n 	Craft Your Roadmap
  to Success: Learn effective goal-setting strategies to translate your dre
 ams into achievable milestones. Leave with a personalized action plan to g
 uide your journey.\n 	Work-Life Balance Made Easy: Discover practical tool
 s and overcome challenges to achieve a harmonious balance between your pro
 fessional and personal life.\n 	Find Your Tribe: Connect with a supportive
  community of like-minded women. Build lasting friendships and find accoun
 tability partners to keep you motivated.\n\nThis workshop is more than jus
 t learning\; it's an investment in your well-being.\n\n\n 	Invest in Yours
 elf: Prioritize your happiness and embark on a transformative journey towa
 rds a healthier\, more fulfilling life.\n 	Happy &amp\; Healthy Relationsh
 ips: Develop strategies to cultivate positive and nourishing connections w
 ith yourself and those around you.\n 	Vision to Reality: Define what happi
 ness means to you and unlock the tools to achieve your unique vision of fu
 lfillment.\n\nDon't miss this opportunity for positive change! Join Coach 
 Vee's Wellness Coaching Workshop and empower yourself to embrace a happier
 \, healthier\, and more balanced you.\nTogether\, let's pave the way for a
  more fulfilling life. Mindful Intentions Coaching Services welcomes you!\
 nFor more information\, visit: https://www.yourmics.com\n\n\n\nBUY TICKETS
 \n
ATTACH;FMTTYPE=image/jpeg:https://breatheatlanta.us/wp-content/uploads/202
 4/04/https___cdn.evbuc_.com_images_734949579_1956614462583_1_original.jpeg
CATEGORIES:Wellness Events
LOCATION:Smyrna Community Center\, 200 Village Green Circle Southeast Smyrn
 a\, GA 30080 United States\, GA\, United States\, 30080\, GA\, United Stat
 es
X-APPLE-STRUCTURED-LOCATION;VALUE=URI;X-ADDRESS=200 Village Green Circle So
 utheast Smyrna\, GA 30080 United States\, GA\, United States\, 30080\, GA\
 , United States;X-APPLE-RADIUS=100;X-TITLE=Smyrna Community Center:geo:0,0
END:VEVENT
BEGIN:VTIMEZONE
TZID:America/New_York
X-LIC-LOCATION:America/New_York
BEGIN:DAYLIGHT
DTSTART:20240310T030000
TZOFFSETFROM:-0500
TZOFFSETTO:-0400
TZNAME:EDT
END:DAYLIGHT
END:VTIMEZONE
END:VCALENDAR