BEGIN:VCALENDAR
VERSION:2.0
PRODID:-//wp-events-plugin.com//7.2.3.1//EN
TZID:America/New_York
X-WR-TIMEZONE:America/New_York
BEGIN:VEVENT
UID:159@breatheatlanta.us
DTSTART;TZID=America/New_York:20240426T170000
DTEND;TZID=America/New_York:20240426T180000
DTSTAMP:20240328T061344Z
URL:https://breatheatlanta.us/events/mindful-yoga-with-tessy/
SUMMARY:Mindful Yoga with Tessy
DESCRIPTION:Experience the serenity of Mindfulness Yoga\, a holistic journe
 y of self-discovery and rejuvenation\n\nEvent Information:\n\nEvent Name: 
 Mindful Yoga with Tessy\n\nHost: All For Her Refillery\, Life Cycle Yoga &
 amp\; Wellness\n\nDate and Time: Friday\, April 26 • 5:00 - 6:00pm EDT\n
 \nLocation: 98 Main Street\, Sharpsburg\, GA\, USA\n\nAbout this Event: In
 dulge in an hour of Mindful Yoga with Tessy\, a serene journey of self-dis
 covery and rejuvenation. Hosted by All For Her Refillery\, Life Cycle Yoga
  &amp\; Wellness\, this session offers a holistic approach to wellness thr
 ough mindfulness yoga.\n\nTicket Price:\n\nGeneral Admission: $15.00\n\nSu
 btotal: $15.00\n\nFees: $2.85\n\nSales Tax: $1.25\n\nTotal: $19.10\n\nGET 
 TICKETS\n\nRefund Policy: Contact the organizer to request a refund. Event
 brite's fee is nonrefundable.\n\nWorkout Session Detail:\n\nTitle: Mindful
  Yoga\n\nDuration: 1 hour\n\nDescription: Mindfulness yoga suitable for al
 l levels. This session integrates breathwork\, asana movement\, and medita
 tion\, fostering harmony and healing within oneself.\n\nEssential for Atte
 ndees:\n\nBring your own yoga mat.\n\nOptional but encouraged: Yoga block.
 \n\nNote: No public restrooms available. Childcare is not provided.\n\nPar
 king Option: Please refer to local parking arrangements near 98 Main Stree
 t\, Sharpsburg\, GA.\n\nEmbark on a journey of inner peace and tranquility
  with Mindful Yoga. Unwind\, rejuvenate\, and discover the harmony within 
 yourself.
ATTACH;FMTTYPE=image/jpeg:https://breatheatlanta.us/wp-content/uploads/202
 4/03/MMMMMMMMMM.jpg
CATEGORIES:Wellness Events,Yoga Events
LOCATION:98 Main Street\, Sharpsburg\, GA\, USA\,   98 Main Street \, Sharp
 sburg\, \, United States\, 30277 \, GA \, United States
X-APPLE-STRUCTURED-LOCATION;VALUE=URI;X-ADDRESS=  98 Main Street \, Sharpsb
 urg\, \, United States\, 30277 \, GA \, United States;X-APPLE-RADIUS=100;X
 -TITLE=98 Main Street\, Sharpsburg\, GA\, USA:geo:0,0
END:VEVENT
BEGIN:VTIMEZONE
TZID:America/New_York
X-LIC-LOCATION:America/New_York
BEGIN:DAYLIGHT
DTSTART:20240310T030000
TZOFFSETFROM:-0500
TZOFFSETTO:-0400
TZNAME:EDT
END:DAYLIGHT
END:VTIMEZONE
END:VCALENDAR