BEGIN:VCALENDAR
VERSION:2.0
PRODID:-//wp-events-plugin.com//7.2.3.1//EN
TZID:America/New_York
X-WR-TIMEZONE:America/New_York
BEGIN:VEVENT
UID:371@breatheatlanta.us
DTSTART;TZID=America/New_York:20240810T140000
DTEND;TZID=America/New_York:20240810T183000
DTSTAMP:20240730T090421Z
URL:https://breatheatlanta.us/events/mini-yoga-healing-retreat/
SUMMARY:Mini Yoga/Healing Retreat
DESCRIPTION:Experience a day dedicated to rejuvenation at the Revitalize Mi
 ni Yoga &amp\; Healing Retreat. This unique retreat is designed to refresh
  your spirit and energize your body\, whether you are new to yoga or an ex
 perienced practitioner.\n\nEvent Highlights:\n\n 	Holistic Experience: Thi
 s retreat offers a blend of yoga\, breathwork\, and meditation\, each sess
 ion crafted to help you shed old habits and embrace new beginnings. It’s
  the perfect opportunity to reset your mind and body\, regardless of your 
 experience level.\n 	Inclusive for All Levels: New to yoga? This retreat w
 ill guide you through the basics with ease. Seasoned yogi? Enhance your pr
 actice with advanced techniques and enjoy additional healing exercises.\n 
 	Comprehensive Practices: Begin with invigorating yoga sessions\, move int
 o restorative breathwork\, and finish with calming meditation. Each practi
 ce is designed to support your personal growth and well-being.\n 	Healing 
 Exercises: After your yoga and meditation sessions\, engage in dedicated t
 ime for healing exercises. These activities are tailored to complement the
  practices\, fostering deeper relaxation and personal transformation.\n 	F
 ully Equipped: All necessary yoga mats\, blocks\, blankets\, and props are
  provided. For added comfort\, attendees are welcome to bring their own pr
 ops or a sleeping mask if they wish.\n\nJoin us for a transformative exper
 ience that promises to wash away the old and welcome in the new. Whether y
 ou’re stepping onto the mat for the first time or looking to deepen your
  practice\, the Revitalize Mini Yoga &amp\; Healing Retreat is your gatewa
 y to a refreshed and renewed self. Don’t miss this opportunity to invest
  in your well-being and embrace a journey of self-discovery.\n\nGET TICKET
 S\n
ATTACH;FMTTYPE=image/jpeg:https://breatheatlanta.us/wp-content/uploads/202
 4/07/Mini-Yoga-Healing-Retreat.jpg
CATEGORIES:Mindfulness Events,Retreats Events,Things To Do,Wellness
 Events,Yoga Events
LOCATION:Santosha Studio\, 896 Davis Drive Northwest Atlanta\, GA 30327 Uni
 ted States\, GA \,  United States\, 30327\, GA\, United States
X-APPLE-STRUCTURED-LOCATION;VALUE=URI;X-ADDRESS=896 Davis Drive Northwest A
 tlanta\, GA 30327 United States\, GA \,  United States\, 30327\, GA\, Unit
 ed States;X-APPLE-RADIUS=100;X-TITLE=Santosha Studio:geo:0,0
END:VEVENT
BEGIN:VTIMEZONE
TZID:America/New_York
X-LIC-LOCATION:America/New_York
BEGIN:DAYLIGHT
DTSTART:20240310T030000
TZOFFSETFROM:-0500
TZOFFSETTO:-0400
TZNAME:EDT
END:DAYLIGHT
END:VTIMEZONE
END:VCALENDAR